BEGIN:VCALENDAR
VERSION:2.0
PRODID:-//hacksw/handcal//NONSGML v1.0//EN
CALSCALE:GREGORIAN
BEGIN:VTIMEZONE
TZID:Europe/Berlin
X-LIC-LOCATION:Europe/Berlin
BEGIN:DAYLIGHT
TZOFFSETFROM:+0100
TZOFFSETTO:+0200
TZNAME:CEST
DTSTART:19700329T020000
RRULE:FREQ=YEARLY;BYDAY=-1SU;BYMONTH=3
END:DAYLIGHT
BEGIN:STANDARD
TZOFFSETFROM:+0200
TZOFFSETTO:+0100
TZNAME:CET
DTSTART:19701025T030000
RRULE:FREQ=YEARLY;BYDAY=-1SU;BYMONTH=10
END:STANDARD
END:VTIMEZONE
BEGIN:VEVENT
DTEND;TZID=Europe/Berlin:20260529T120000
UID:69eb720294f7c
DTSTAMP:20260424T153706
LOCATION:Imkerei Oberalteich
DESCRIPTION:Hier werden Themen rund um Bienen und Wildbienen mit besonderem Fokus auf ihre wichtige Bestäubungsleistung für Natur und Landwirtschaft unter die Lupe genommen. Auch bienenfreundliche Bienenweiden sowie die Vielfalt der Bienenprodukte stehen dabei im Mittelpunkt.
URL;VALUE=URI:https://www.unser-ferienprogramm.de/bogen/veranstaltung.php?id=119553
SUMMARY:Wissenswertes über Bienen und Imkerei
DTSTART;TZID=Europe/Berlin:20260529T100000
END:VEVENT

END:VCALENDAR
