BEGIN:VCALENDAR
VERSION:2.0
PRODID:-//hacksw/handcal//NONSGML v1.0//EN
CALSCALE:GREGORIAN
BEGIN:VTIMEZONE
TZID:Europe/Berlin
X-LIC-LOCATION:Europe/Berlin
BEGIN:DAYLIGHT
TZOFFSETFROM:+0100
TZOFFSETTO:+0200
TZNAME:CEST
DTSTART:19700329T020000
RRULE:FREQ=YEARLY;BYDAY=-1SU;BYMONTH=3
END:DAYLIGHT
BEGIN:STANDARD
TZOFFSETFROM:+0200
TZOFFSETTO:+0100
TZNAME:CET
DTSTART:19701025T030000
RRULE:FREQ=YEARLY;BYDAY=-1SU;BYMONTH=10
END:STANDARD
END:VTIMEZONE
BEGIN:VEVENT
DTEND;TZID=Europe/Berlin:20260901T160000
UID:69eb8895eabd7
DTSTAMP:20260424T171325
LOCATION:Haus der Begegnung
DESCRIPTION:Alle Kids\, die  sich gerne bewegen möchten und Interesse an lustigen Spielen haben\, sind hier genau richtig!
URL;VALUE=URI:https://www.unser-ferienprogramm.de/bogen/veranstaltung.php?id=118767
SUMMARY:Mit Spaß miteinander bewegen
DTSTART;TZID=Europe/Berlin:20260901T130000
END:VEVENT

END:VCALENDAR
