BEGIN:VCALENDAR
VERSION:2.0
PRODID:-//hacksw/handcal//NONSGML v1.0//EN
CALSCALE:GREGORIAN
BEGIN:VTIMEZONE
TZID:Europe/Berlin
X-LIC-LOCATION:Europe/Berlin
BEGIN:DAYLIGHT
TZOFFSETFROM:+0100
TZOFFSETTO:+0200
TZNAME:CEST
DTSTART:19700329T020000
RRULE:FREQ=YEARLY;BYDAY=-1SU;BYMONTH=3
END:DAYLIGHT
BEGIN:STANDARD
TZOFFSETFROM:+0200
TZOFFSETTO:+0100
TZNAME:CET
DTSTART:19701025T030000
RRULE:FREQ=YEARLY;BYDAY=-1SU;BYMONTH=10
END:STANDARD
END:VTIMEZONE
BEGIN:VEVENT
DTEND;TZID=Europe/Berlin:20260821T140000
UID:69e61b0f3f802
DTSTAMP:20260420T142447
LOCATION:Sporthallen des Stadtwald Sportparks
DESCRIPTION:Liebe Sportfreunde des Stadtwald-Sportparks\, \r\n\r\nWir planen die nächsten Feriencamps. \r\n\r\nBald haben Sie die Möglichkeit\, Ihr Kind bei uns anzumelden für das Sommerferien Soccer Camp unter: https://www.stadtwaldsportpark.de\r\n\r\n1. bis 5. Ferienwoche jeweils 5 Tage Camp.\r\nPro Woche 110€\r\nJeweils von 09:00 Uhr bis 14:00 Uhr.\r\n\r\nEs gibt Getränke und Obst/Gemüse (30 Min Pause)\, aber keine warmen Mahlzeiten. \r\n\r\nWir freuen uns schon auf die Ferien\, sichern Sie sich jetzt schnell einen Platz!\r\n\r\nBis dahin\, bleiben Sie gesund!\r\n\r\nEuer Stadtwald-Sportpark Team
URL;VALUE=URI:https://www.unser-ferienprogramm.de/bocholt/veranstaltung.php?id=306941
SUMMARY:Soccercamp 5. Ferienwoche
DTSTART;TZID=Europe/Berlin:20260817T090000
END:VEVENT

END:VCALENDAR
