BEGIN:VCALENDAR
VERSION:2.0
PRODID:-//hacksw/handcal//NONSGML v1.0//EN
CALSCALE:GREGORIAN
BEGIN:VTIMEZONE
TZID:Europe/Berlin
X-LIC-LOCATION:Europe/Berlin
BEGIN:DAYLIGHT
TZOFFSETFROM:+0100
TZOFFSETTO:+0200
TZNAME:CEST
DTSTART:19700329T020000
RRULE:FREQ=YEARLY;BYDAY=-1SU;BYMONTH=3
END:DAYLIGHT
BEGIN:STANDARD
TZOFFSETFROM:+0200
TZOFFSETTO:+0100
TZNAME:CET
DTSTART:19701025T030000
RRULE:FREQ=YEARLY;BYDAY=-1SU;BYMONTH=10
END:STANDARD
END:VTIMEZONE
BEGIN:VEVENT
DTEND;TZID=Europe/Berlin:20260828T000000
UID:69e61b482f4a6
DTSTAMP:20260420T142544
LOCATION:Hochfeldstraße 56b\, 46397 Bocholt
DESCRIPTION:Motto der 6ten Sommerferienspielwoche:\r\n"Dschungel Ferien Camp"\r\n\r\nTäglich von 9:00/9:30 (Bringzeit) Uhr bis 16:00/16:30 Uhr (Abholzeit)\r\nBei Bedarf kann eine Frühbetreuung hinzugebucht werden (7:30 - 9:00 Uhr)\r\nKosten für die Frühbetreuung 15\,00€.\r\n\r\nBei einer Stornierung fällt eine Gebühr von 15\,00 € an.\r\n\r\nIn unseren Themen-Wochen arbeiten wir mit einem festen Wochenplan.\r\nTäglich finden zwei verbindliche Programmblöcke statt:\r\n– vormittags: 2 Stunden angeleitetes Programm\r\n– nachmittags: 2 Stunden angeleitetes Programm\r\nIn diesen Zeiten nehmen alle Kinder an den geplanten Angeboten zum jeweiligen Wochenthema teil.\r\nAußerhalb der Programmblöcke steht den Kindern Zeit für freies Spiel\, Erholung und selbstgewählte Aktivitäten zur Verfügung.\r\nSo verbinden wir strukturierte Angebote mit Freiräumen im Tagesablauf.
URL;VALUE=URI:https://www.unser-ferienprogramm.de/bocholt/veranstaltung.php?id=306623
SUMMARY:Dschungel Woche im Jucca 
DTSTART;TZID=Europe/Berlin:20260824T000000
END:VEVENT

END:VCALENDAR
