BEGIN:VCALENDAR
VERSION:2.0
PRODID:-//hacksw/handcal//NONSGML v1.0//EN
CALSCALE:GREGORIAN
BEGIN:VTIMEZONE
TZID:Europe/Berlin
X-LIC-LOCATION:Europe/Berlin
BEGIN:DAYLIGHT
TZOFFSETFROM:+0100
TZOFFSETTO:+0200
TZNAME:CEST
DTSTART:19700329T020000
RRULE:FREQ=YEARLY;BYDAY=-1SU;BYMONTH=3
END:DAYLIGHT
BEGIN:STANDARD
TZOFFSETFROM:+0200
TZOFFSETTO:+0100
TZNAME:CET
DTSTART:19701025T030000
RRULE:FREQ=YEARLY;BYDAY=-1SU;BYMONTH=10
END:STANDARD
END:VTIMEZONE
BEGIN:VEVENT
DTEND;TZID=Europe/Berlin:20260901T130000
UID:69e6093912911
DTSTAMP:20260420T130841
LOCATION:Borussia Bocholt\, In der Hardt 10\, 46397 Bocholt
DESCRIPTION:In den Frühjahrs/ Sommer und Herbstferien bieten wir eine betreute Ferienzeit für Kinder mit\r\nTrisomie 21 und/oder geistiger Behinderung sowie für Kinder mit körperlicher Behinderung an. Die\r\nBetreuung findet in einer geschützten\, wertschätzenden und gut geeigneten Umgebung statt.\r\nOrt der Betreuung:\r\nBorussia Bocholt – In der Hardt\r\nUnser Betreuungsangebot im Überblick:\r\n• Betreuungszeit: täglich von 08:00 bis 13:00 Uhr\r\n• Abrechnung: pro Kind werden 2\,5 Stunden täglich abgerechnet\r\n• Zielgruppe: Kinder mit Trisomie 21\, geistiger Behinderung und/oder körperlicher\r\nBehinderung\r\n• Fachliche Begleitung: Es ist immer mindestens eine pädagogische Fachkraft vor Ort\r\n• Betreuungsschlüssel: mindestens 3:1-Betreuung\r\n→ nach Absprache und individuellem Bedarf ist auch eine 2:1- oder 1:1-Betreuung möglich\r\n→ in diesen Fällen passen sich die Kosten entsprechend an\r\n• Verpflegung: Getränke\, Obst und ein kleiner Snack zwischendurch sind inklusive\r\n• Inhalte: alters- und entwicklungsangepasste Spiel-\, Bewegungs-\, Kreativ- und Ruheangebote\r\n• Teilnehmerzahl:\r\n→ Mindestteilnehmerzahl: 4 Kinder\r\n→ Höchstteilnehmerzahl: 20 Kinder\r\nZiel unseres Angebots ist es\, den Kindern eine schöne\, sichere und strukturierte Ferienzeit mit Freude\r\nund Gemeinschaft zu ermöglichen – und gleichzeitig Eltern spürbar im Alltag zu entlasten.\r\nAbrechnung & Finanzierung:\r\nDie Abrechnung erfolgt – je nach individuellem Anspruch – über:\r\n• die Verhinderungspflege\r\n• den Entlastungsbetrag\r\n• oder über Sachleistungen der Pflegekasse\r\nGerne beraten wir Sie persönlich\, welche Abrechnungsform für Ihr Kind möglich ist.\r\n\r\nWeitere Informationen zu Zeitraum\, Anmeldung und Ablauf erhalten Sie auf\r\nAnfrage.\r\n\r\nAnmeldungen bitte unter info@muensterlandpflege.de\r\n
URL;VALUE=URI:https://www.unser-ferienprogramm.de/bocholt/veranstaltung.php?id=305655
SUMMARY: Lesana Camp- Feriencamp für Kinder mit Behinderung- Sommerferien
DTSTART;TZID=Europe/Berlin:20260720T080000
END:VEVENT

END:VCALENDAR
