BEGIN:VCALENDAR
VERSION:2.0
PRODID:-//hacksw/handcal//NONSGML v1.0//EN
CALSCALE:GREGORIAN
BEGIN:VTIMEZONE
TZID:Europe/Berlin
X-LIC-LOCATION:Europe/Berlin
BEGIN:DAYLIGHT
TZOFFSETFROM:+0100
TZOFFSETTO:+0200
TZNAME:CEST
DTSTART:19700329T020000
RRULE:FREQ=YEARLY;BYDAY=-1SU;BYMONTH=3
END:DAYLIGHT
BEGIN:STANDARD
TZOFFSETFROM:+0200
TZOFFSETTO:+0100
TZNAME:CET
DTSTART:19701025T030000
RRULE:FREQ=YEARLY;BYDAY=-1SU;BYMONTH=10
END:STANDARD
END:VTIMEZONE
BEGIN:VEVENT
DTEND;TZID=Europe/Berlin:20260218T210000
UID:69e607c637b3c
DTSTAMP:20260420T130230
LOCATION:Leopoldstraße 1
DESCRIPTION:Jeden Mittwoch von 18:00 bis 21:00 Uhr findet im Jugendtreff Leo ein offener Mädchenabend für 13- bis 18-Jährige statt.\r\n\r\nDie Mädchen entscheiden selbst\, wie sie den Abend gestalten möchten – ob kreativ\, sportlich\, entspannt oder im Austausch miteinander. Zur Verfügung stehen unter anderem ein eigenes Kino\, ein Fitnessstudio (nach Einweisung frei nutzbar)\, Musikbox\, Küche\, Kicker\, Tischtennis\, Dart\, Mattenbereich sowie Snacks.\r\n\r\nEine pädagogische Fachkraft ist immer vor Ort und begleitet die Jugendlichen.\r\n\r\nDer Mädchenabend ist kostenfrei\, bietet einen sicheren Raum für Gemeinschaft\, neue Freundschaften und persönliche Entwicklung – neue Besucherinnen sind herzlich willkommen.
URL;VALUE=URI:https://www.unser-ferienprogramm.de/bocholt/veranstaltung.php?id=303618
SUMMARY:Mädchenabend im Jugendtreff Leo
DTSTART;TZID=Europe/Berlin:20260218T180000
END:VEVENT


BEGIN:VEVENT
DTEND;TZID=Europe/Berlin:20260225T210000
UID:69e607c637b571
DTSTAMP:20260420T130230
LOCATION:Leopoldstraße 1
DESCRIPTION:Jeden Mittwoch von 18:00 bis 21:00 Uhr findet im Jugendtreff Leo ein offener Mädchenabend für 13- bis 18-Jährige statt.\r\n\r\nDie Mädchen entscheiden selbst\, wie sie den Abend gestalten möchten – ob kreativ\, sportlich\, entspannt oder im Austausch miteinander. Zur Verfügung stehen unter anderem ein eigenes Kino\, ein Fitnessstudio (nach Einweisung frei nutzbar)\, Musikbox\, Küche\, Kicker\, Tischtennis\, Dart\, Mattenbereich sowie Snacks.\r\n\r\nEine pädagogische Fachkraft ist immer vor Ort und begleitet die Jugendlichen.\r\n\r\nDer Mädchenabend ist kostenfrei\, bietet einen sicheren Raum für Gemeinschaft\, neue Freundschaften und persönliche Entwicklung – neue Besucherinnen sind herzlich willkommen.
URL;VALUE=URI:https://www.unser-ferienprogramm.de/bocholt/veranstaltung.php?id=303618
SUMMARY:Mädchenabend im Jugendtreff Leo
DTSTART;TZID=Europe/Berlin:20260225T180000
END:VEVENT


BEGIN:VEVENT
DTEND;TZID=Europe/Berlin:20260304T210000
UID:69e607c637b672
DTSTAMP:20260420T130230
LOCATION:Leopoldstraße 1
DESCRIPTION:Jeden Mittwoch von 18:00 bis 21:00 Uhr findet im Jugendtreff Leo ein offener Mädchenabend für 13- bis 18-Jährige statt.\r\n\r\nDie Mädchen entscheiden selbst\, wie sie den Abend gestalten möchten – ob kreativ\, sportlich\, entspannt oder im Austausch miteinander. Zur Verfügung stehen unter anderem ein eigenes Kino\, ein Fitnessstudio (nach Einweisung frei nutzbar)\, Musikbox\, Küche\, Kicker\, Tischtennis\, Dart\, Mattenbereich sowie Snacks.\r\n\r\nEine pädagogische Fachkraft ist immer vor Ort und begleitet die Jugendlichen.\r\n\r\nDer Mädchenabend ist kostenfrei\, bietet einen sicheren Raum für Gemeinschaft\, neue Freundschaften und persönliche Entwicklung – neue Besucherinnen sind herzlich willkommen.
URL;VALUE=URI:https://www.unser-ferienprogramm.de/bocholt/veranstaltung.php?id=303618
SUMMARY:Mädchenabend im Jugendtreff Leo
DTSTART;TZID=Europe/Berlin:20260304T180000
END:VEVENT


BEGIN:VEVENT
DTEND;TZID=Europe/Berlin:20260311T210000
UID:69e607c637b753
DTSTAMP:20260420T130230
LOCATION:Leopoldstraße 1
DESCRIPTION:Jeden Mittwoch von 18:00 bis 21:00 Uhr findet im Jugendtreff Leo ein offener Mädchenabend für 13- bis 18-Jährige statt.\r\n\r\nDie Mädchen entscheiden selbst\, wie sie den Abend gestalten möchten – ob kreativ\, sportlich\, entspannt oder im Austausch miteinander. Zur Verfügung stehen unter anderem ein eigenes Kino\, ein Fitnessstudio (nach Einweisung frei nutzbar)\, Musikbox\, Küche\, Kicker\, Tischtennis\, Dart\, Mattenbereich sowie Snacks.\r\n\r\nEine pädagogische Fachkraft ist immer vor Ort und begleitet die Jugendlichen.\r\n\r\nDer Mädchenabend ist kostenfrei\, bietet einen sicheren Raum für Gemeinschaft\, neue Freundschaften und persönliche Entwicklung – neue Besucherinnen sind herzlich willkommen.
URL;VALUE=URI:https://www.unser-ferienprogramm.de/bocholt/veranstaltung.php?id=303618
SUMMARY:Mädchenabend im Jugendtreff Leo
DTSTART;TZID=Europe/Berlin:20260311T180000
END:VEVENT


BEGIN:VEVENT
DTEND;TZID=Europe/Berlin:20260318T210000
UID:69e607c637b824
DTSTAMP:20260420T130230
LOCATION:Leopoldstraße 1
DESCRIPTION:Jeden Mittwoch von 18:00 bis 21:00 Uhr findet im Jugendtreff Leo ein offener Mädchenabend für 13- bis 18-Jährige statt.\r\n\r\nDie Mädchen entscheiden selbst\, wie sie den Abend gestalten möchten – ob kreativ\, sportlich\, entspannt oder im Austausch miteinander. Zur Verfügung stehen unter anderem ein eigenes Kino\, ein Fitnessstudio (nach Einweisung frei nutzbar)\, Musikbox\, Küche\, Kicker\, Tischtennis\, Dart\, Mattenbereich sowie Snacks.\r\n\r\nEine pädagogische Fachkraft ist immer vor Ort und begleitet die Jugendlichen.\r\n\r\nDer Mädchenabend ist kostenfrei\, bietet einen sicheren Raum für Gemeinschaft\, neue Freundschaften und persönliche Entwicklung – neue Besucherinnen sind herzlich willkommen.
URL;VALUE=URI:https://www.unser-ferienprogramm.de/bocholt/veranstaltung.php?id=303618
SUMMARY:Mädchenabend im Jugendtreff Leo
DTSTART;TZID=Europe/Berlin:20260318T180000
END:VEVENT


BEGIN:VEVENT
DTEND;TZID=Europe/Berlin:20260325T210000
UID:69e607c637b8f5
DTSTAMP:20260420T130230
LOCATION:Leopoldstraße 1
DESCRIPTION:Jeden Mittwoch von 18:00 bis 21:00 Uhr findet im Jugendtreff Leo ein offener Mädchenabend für 13- bis 18-Jährige statt.\r\n\r\nDie Mädchen entscheiden selbst\, wie sie den Abend gestalten möchten – ob kreativ\, sportlich\, entspannt oder im Austausch miteinander. Zur Verfügung stehen unter anderem ein eigenes Kino\, ein Fitnessstudio (nach Einweisung frei nutzbar)\, Musikbox\, Küche\, Kicker\, Tischtennis\, Dart\, Mattenbereich sowie Snacks.\r\n\r\nEine pädagogische Fachkraft ist immer vor Ort und begleitet die Jugendlichen.\r\n\r\nDer Mädchenabend ist kostenfrei\, bietet einen sicheren Raum für Gemeinschaft\, neue Freundschaften und persönliche Entwicklung – neue Besucherinnen sind herzlich willkommen.
URL;VALUE=URI:https://www.unser-ferienprogramm.de/bocholt/veranstaltung.php?id=303618
SUMMARY:Mädchenabend im Jugendtreff Leo
DTSTART;TZID=Europe/Berlin:20260325T180000
END:VEVENT


BEGIN:VEVENT
DTEND;TZID=Europe/Berlin:20260401T210000
UID:69e607c637b9b6
DTSTAMP:20260420T130230
LOCATION:Leopoldstraße 1
DESCRIPTION:Jeden Mittwoch von 18:00 bis 21:00 Uhr findet im Jugendtreff Leo ein offener Mädchenabend für 13- bis 18-Jährige statt.\r\n\r\nDie Mädchen entscheiden selbst\, wie sie den Abend gestalten möchten – ob kreativ\, sportlich\, entspannt oder im Austausch miteinander. Zur Verfügung stehen unter anderem ein eigenes Kino\, ein Fitnessstudio (nach Einweisung frei nutzbar)\, Musikbox\, Küche\, Kicker\, Tischtennis\, Dart\, Mattenbereich sowie Snacks.\r\n\r\nEine pädagogische Fachkraft ist immer vor Ort und begleitet die Jugendlichen.\r\n\r\nDer Mädchenabend ist kostenfrei\, bietet einen sicheren Raum für Gemeinschaft\, neue Freundschaften und persönliche Entwicklung – neue Besucherinnen sind herzlich willkommen.
URL;VALUE=URI:https://www.unser-ferienprogramm.de/bocholt/veranstaltung.php?id=303618
SUMMARY:Mädchenabend im Jugendtreff Leo
DTSTART;TZID=Europe/Berlin:20260401T180000
END:VEVENT


BEGIN:VEVENT
DTEND;TZID=Europe/Berlin:20260408T210000
UID:69e607c637ba77
DTSTAMP:20260420T130230
LOCATION:Leopoldstraße 1
DESCRIPTION:Jeden Mittwoch von 18:00 bis 21:00 Uhr findet im Jugendtreff Leo ein offener Mädchenabend für 13- bis 18-Jährige statt.\r\n\r\nDie Mädchen entscheiden selbst\, wie sie den Abend gestalten möchten – ob kreativ\, sportlich\, entspannt oder im Austausch miteinander. Zur Verfügung stehen unter anderem ein eigenes Kino\, ein Fitnessstudio (nach Einweisung frei nutzbar)\, Musikbox\, Küche\, Kicker\, Tischtennis\, Dart\, Mattenbereich sowie Snacks.\r\n\r\nEine pädagogische Fachkraft ist immer vor Ort und begleitet die Jugendlichen.\r\n\r\nDer Mädchenabend ist kostenfrei\, bietet einen sicheren Raum für Gemeinschaft\, neue Freundschaften und persönliche Entwicklung – neue Besucherinnen sind herzlich willkommen.
URL;VALUE=URI:https://www.unser-ferienprogramm.de/bocholt/veranstaltung.php?id=303618
SUMMARY:Mädchenabend im Jugendtreff Leo
DTSTART;TZID=Europe/Berlin:20260408T180000
END:VEVENT


BEGIN:VEVENT
DTEND;TZID=Europe/Berlin:20260415T210000
UID:69e607c637bb48
DTSTAMP:20260420T130230
LOCATION:Leopoldstraße 1
DESCRIPTION:Jeden Mittwoch von 18:00 bis 21:00 Uhr findet im Jugendtreff Leo ein offener Mädchenabend für 13- bis 18-Jährige statt.\r\n\r\nDie Mädchen entscheiden selbst\, wie sie den Abend gestalten möchten – ob kreativ\, sportlich\, entspannt oder im Austausch miteinander. Zur Verfügung stehen unter anderem ein eigenes Kino\, ein Fitnessstudio (nach Einweisung frei nutzbar)\, Musikbox\, Küche\, Kicker\, Tischtennis\, Dart\, Mattenbereich sowie Snacks.\r\n\r\nEine pädagogische Fachkraft ist immer vor Ort und begleitet die Jugendlichen.\r\n\r\nDer Mädchenabend ist kostenfrei\, bietet einen sicheren Raum für Gemeinschaft\, neue Freundschaften und persönliche Entwicklung – neue Besucherinnen sind herzlich willkommen.
URL;VALUE=URI:https://www.unser-ferienprogramm.de/bocholt/veranstaltung.php?id=303618
SUMMARY:Mädchenabend im Jugendtreff Leo
DTSTART;TZID=Europe/Berlin:20260415T180000
END:VEVENT


BEGIN:VEVENT
DTEND;TZID=Europe/Berlin:20260422T210000
UID:69e607c637bc09
DTSTAMP:20260420T130230
LOCATION:Leopoldstraße 1
DESCRIPTION:Jeden Mittwoch von 18:00 bis 21:00 Uhr findet im Jugendtreff Leo ein offener Mädchenabend für 13- bis 18-Jährige statt.\r\n\r\nDie Mädchen entscheiden selbst\, wie sie den Abend gestalten möchten – ob kreativ\, sportlich\, entspannt oder im Austausch miteinander. Zur Verfügung stehen unter anderem ein eigenes Kino\, ein Fitnessstudio (nach Einweisung frei nutzbar)\, Musikbox\, Küche\, Kicker\, Tischtennis\, Dart\, Mattenbereich sowie Snacks.\r\n\r\nEine pädagogische Fachkraft ist immer vor Ort und begleitet die Jugendlichen.\r\n\r\nDer Mädchenabend ist kostenfrei\, bietet einen sicheren Raum für Gemeinschaft\, neue Freundschaften und persönliche Entwicklung – neue Besucherinnen sind herzlich willkommen.
URL;VALUE=URI:https://www.unser-ferienprogramm.de/bocholt/veranstaltung.php?id=303618
SUMMARY:Mädchenabend im Jugendtreff Leo
DTSTART;TZID=Europe/Berlin:20260422T180000
END:VEVENT


BEGIN:VEVENT
DTEND;TZID=Europe/Berlin:20260520T210000
UID:69e607c637bcc10
DTSTAMP:20260420T130230
LOCATION:Leopoldstraße 1
DESCRIPTION:Jeden Mittwoch von 18:00 bis 21:00 Uhr findet im Jugendtreff Leo ein offener Mädchenabend für 13- bis 18-Jährige statt.\r\n\r\nDie Mädchen entscheiden selbst\, wie sie den Abend gestalten möchten – ob kreativ\, sportlich\, entspannt oder im Austausch miteinander. Zur Verfügung stehen unter anderem ein eigenes Kino\, ein Fitnessstudio (nach Einweisung frei nutzbar)\, Musikbox\, Küche\, Kicker\, Tischtennis\, Dart\, Mattenbereich sowie Snacks.\r\n\r\nEine pädagogische Fachkraft ist immer vor Ort und begleitet die Jugendlichen.\r\n\r\nDer Mädchenabend ist kostenfrei\, bietet einen sicheren Raum für Gemeinschaft\, neue Freundschaften und persönliche Entwicklung – neue Besucherinnen sind herzlich willkommen.
URL;VALUE=URI:https://www.unser-ferienprogramm.de/bocholt/veranstaltung.php?id=303618
SUMMARY:Mädchenabend im Jugendtreff Leo
DTSTART;TZID=Europe/Berlin:20260520T180000
END:VEVENT


BEGIN:VEVENT
DTEND;TZID=Europe/Berlin:20260527T210000
UID:69e607c637bd911
DTSTAMP:20260420T130230
LOCATION:Leopoldstraße 1
DESCRIPTION:Jeden Mittwoch von 18:00 bis 21:00 Uhr findet im Jugendtreff Leo ein offener Mädchenabend für 13- bis 18-Jährige statt.\r\n\r\nDie Mädchen entscheiden selbst\, wie sie den Abend gestalten möchten – ob kreativ\, sportlich\, entspannt oder im Austausch miteinander. Zur Verfügung stehen unter anderem ein eigenes Kino\, ein Fitnessstudio (nach Einweisung frei nutzbar)\, Musikbox\, Küche\, Kicker\, Tischtennis\, Dart\, Mattenbereich sowie Snacks.\r\n\r\nEine pädagogische Fachkraft ist immer vor Ort und begleitet die Jugendlichen.\r\n\r\nDer Mädchenabend ist kostenfrei\, bietet einen sicheren Raum für Gemeinschaft\, neue Freundschaften und persönliche Entwicklung – neue Besucherinnen sind herzlich willkommen.
URL;VALUE=URI:https://www.unser-ferienprogramm.de/bocholt/veranstaltung.php?id=303618
SUMMARY:Mädchenabend im Jugendtreff Leo
DTSTART;TZID=Europe/Berlin:20260527T180000
END:VEVENT


BEGIN:VEVENT
DTEND;TZID=Europe/Berlin:20260603T210000
UID:69e607c637be512
DTSTAMP:20260420T130230
LOCATION:Leopoldstraße 1
DESCRIPTION:Jeden Mittwoch von 18:00 bis 21:00 Uhr findet im Jugendtreff Leo ein offener Mädchenabend für 13- bis 18-Jährige statt.\r\n\r\nDie Mädchen entscheiden selbst\, wie sie den Abend gestalten möchten – ob kreativ\, sportlich\, entspannt oder im Austausch miteinander. Zur Verfügung stehen unter anderem ein eigenes Kino\, ein Fitnessstudio (nach Einweisung frei nutzbar)\, Musikbox\, Küche\, Kicker\, Tischtennis\, Dart\, Mattenbereich sowie Snacks.\r\n\r\nEine pädagogische Fachkraft ist immer vor Ort und begleitet die Jugendlichen.\r\n\r\nDer Mädchenabend ist kostenfrei\, bietet einen sicheren Raum für Gemeinschaft\, neue Freundschaften und persönliche Entwicklung – neue Besucherinnen sind herzlich willkommen.
URL;VALUE=URI:https://www.unser-ferienprogramm.de/bocholt/veranstaltung.php?id=303618
SUMMARY:Mädchenabend im Jugendtreff Leo
DTSTART;TZID=Europe/Berlin:20260603T180000
END:VEVENT


BEGIN:VEVENT
DTEND;TZID=Europe/Berlin:20260610T210000
UID:69e607c637bf113
DTSTAMP:20260420T130230
LOCATION:Leopoldstraße 1
DESCRIPTION:Jeden Mittwoch von 18:00 bis 21:00 Uhr findet im Jugendtreff Leo ein offener Mädchenabend für 13- bis 18-Jährige statt.\r\n\r\nDie Mädchen entscheiden selbst\, wie sie den Abend gestalten möchten – ob kreativ\, sportlich\, entspannt oder im Austausch miteinander. Zur Verfügung stehen unter anderem ein eigenes Kino\, ein Fitnessstudio (nach Einweisung frei nutzbar)\, Musikbox\, Küche\, Kicker\, Tischtennis\, Dart\, Mattenbereich sowie Snacks.\r\n\r\nEine pädagogische Fachkraft ist immer vor Ort und begleitet die Jugendlichen.\r\n\r\nDer Mädchenabend ist kostenfrei\, bietet einen sicheren Raum für Gemeinschaft\, neue Freundschaften und persönliche Entwicklung – neue Besucherinnen sind herzlich willkommen.
URL;VALUE=URI:https://www.unser-ferienprogramm.de/bocholt/veranstaltung.php?id=303618
SUMMARY:Mädchenabend im Jugendtreff Leo
DTSTART;TZID=Europe/Berlin:20260610T180000
END:VEVENT


BEGIN:VEVENT
DTEND;TZID=Europe/Berlin:20260617T210000
UID:69e607c637bfd14
DTSTAMP:20260420T130230
LOCATION:Leopoldstraße 1
DESCRIPTION:Jeden Mittwoch von 18:00 bis 21:00 Uhr findet im Jugendtreff Leo ein offener Mädchenabend für 13- bis 18-Jährige statt.\r\n\r\nDie Mädchen entscheiden selbst\, wie sie den Abend gestalten möchten – ob kreativ\, sportlich\, entspannt oder im Austausch miteinander. Zur Verfügung stehen unter anderem ein eigenes Kino\, ein Fitnessstudio (nach Einweisung frei nutzbar)\, Musikbox\, Küche\, Kicker\, Tischtennis\, Dart\, Mattenbereich sowie Snacks.\r\n\r\nEine pädagogische Fachkraft ist immer vor Ort und begleitet die Jugendlichen.\r\n\r\nDer Mädchenabend ist kostenfrei\, bietet einen sicheren Raum für Gemeinschaft\, neue Freundschaften und persönliche Entwicklung – neue Besucherinnen sind herzlich willkommen.
URL;VALUE=URI:https://www.unser-ferienprogramm.de/bocholt/veranstaltung.php?id=303618
SUMMARY:Mädchenabend im Jugendtreff Leo
DTSTART;TZID=Europe/Berlin:20260617T180000
END:VEVENT


BEGIN:VEVENT
DTEND;TZID=Europe/Berlin:20260624T210000
UID:69e607c637c0a15
DTSTAMP:20260420T130230
LOCATION:Leopoldstraße 1
DESCRIPTION:Jeden Mittwoch von 18:00 bis 21:00 Uhr findet im Jugendtreff Leo ein offener Mädchenabend für 13- bis 18-Jährige statt.\r\n\r\nDie Mädchen entscheiden selbst\, wie sie den Abend gestalten möchten – ob kreativ\, sportlich\, entspannt oder im Austausch miteinander. Zur Verfügung stehen unter anderem ein eigenes Kino\, ein Fitnessstudio (nach Einweisung frei nutzbar)\, Musikbox\, Küche\, Kicker\, Tischtennis\, Dart\, Mattenbereich sowie Snacks.\r\n\r\nEine pädagogische Fachkraft ist immer vor Ort und begleitet die Jugendlichen.\r\n\r\nDer Mädchenabend ist kostenfrei\, bietet einen sicheren Raum für Gemeinschaft\, neue Freundschaften und persönliche Entwicklung – neue Besucherinnen sind herzlich willkommen.
URL;VALUE=URI:https://www.unser-ferienprogramm.de/bocholt/veranstaltung.php?id=303618
SUMMARY:Mädchenabend im Jugendtreff Leo
DTSTART;TZID=Europe/Berlin:20260624T180000
END:VEVENT


BEGIN:VEVENT
DTEND;TZID=Europe/Berlin:20260701T210000
UID:69e607c637c1616
DTSTAMP:20260420T130230
LOCATION:Leopoldstraße 1
DESCRIPTION:Jeden Mittwoch von 18:00 bis 21:00 Uhr findet im Jugendtreff Leo ein offener Mädchenabend für 13- bis 18-Jährige statt.\r\n\r\nDie Mädchen entscheiden selbst\, wie sie den Abend gestalten möchten – ob kreativ\, sportlich\, entspannt oder im Austausch miteinander. Zur Verfügung stehen unter anderem ein eigenes Kino\, ein Fitnessstudio (nach Einweisung frei nutzbar)\, Musikbox\, Küche\, Kicker\, Tischtennis\, Dart\, Mattenbereich sowie Snacks.\r\n\r\nEine pädagogische Fachkraft ist immer vor Ort und begleitet die Jugendlichen.\r\n\r\nDer Mädchenabend ist kostenfrei\, bietet einen sicheren Raum für Gemeinschaft\, neue Freundschaften und persönliche Entwicklung – neue Besucherinnen sind herzlich willkommen.
URL;VALUE=URI:https://www.unser-ferienprogramm.de/bocholt/veranstaltung.php?id=303618
SUMMARY:Mädchenabend im Jugendtreff Leo
DTSTART;TZID=Europe/Berlin:20260701T180000
END:VEVENT


BEGIN:VEVENT
DTEND;TZID=Europe/Berlin:20260708T210000
UID:69e607c637c2217
DTSTAMP:20260420T130230
LOCATION:Leopoldstraße 1
DESCRIPTION:Jeden Mittwoch von 18:00 bis 21:00 Uhr findet im Jugendtreff Leo ein offener Mädchenabend für 13- bis 18-Jährige statt.\r\n\r\nDie Mädchen entscheiden selbst\, wie sie den Abend gestalten möchten – ob kreativ\, sportlich\, entspannt oder im Austausch miteinander. Zur Verfügung stehen unter anderem ein eigenes Kino\, ein Fitnessstudio (nach Einweisung frei nutzbar)\, Musikbox\, Küche\, Kicker\, Tischtennis\, Dart\, Mattenbereich sowie Snacks.\r\n\r\nEine pädagogische Fachkraft ist immer vor Ort und begleitet die Jugendlichen.\r\n\r\nDer Mädchenabend ist kostenfrei\, bietet einen sicheren Raum für Gemeinschaft\, neue Freundschaften und persönliche Entwicklung – neue Besucherinnen sind herzlich willkommen.
URL;VALUE=URI:https://www.unser-ferienprogramm.de/bocholt/veranstaltung.php?id=303618
SUMMARY:Mädchenabend im Jugendtreff Leo
DTSTART;TZID=Europe/Berlin:20260708T180000
END:VEVENT


BEGIN:VEVENT
DTEND;TZID=Europe/Berlin:20260715T210000
UID:69e607c637c2e18
DTSTAMP:20260420T130230
LOCATION:Leopoldstraße 1
DESCRIPTION:Jeden Mittwoch von 18:00 bis 21:00 Uhr findet im Jugendtreff Leo ein offener Mädchenabend für 13- bis 18-Jährige statt.\r\n\r\nDie Mädchen entscheiden selbst\, wie sie den Abend gestalten möchten – ob kreativ\, sportlich\, entspannt oder im Austausch miteinander. Zur Verfügung stehen unter anderem ein eigenes Kino\, ein Fitnessstudio (nach Einweisung frei nutzbar)\, Musikbox\, Küche\, Kicker\, Tischtennis\, Dart\, Mattenbereich sowie Snacks.\r\n\r\nEine pädagogische Fachkraft ist immer vor Ort und begleitet die Jugendlichen.\r\n\r\nDer Mädchenabend ist kostenfrei\, bietet einen sicheren Raum für Gemeinschaft\, neue Freundschaften und persönliche Entwicklung – neue Besucherinnen sind herzlich willkommen.
URL;VALUE=URI:https://www.unser-ferienprogramm.de/bocholt/veranstaltung.php?id=303618
SUMMARY:Mädchenabend im Jugendtreff Leo
DTSTART;TZID=Europe/Berlin:20260715T180000
END:VEVENT


BEGIN:VEVENT
DTEND;TZID=Europe/Berlin:20260722T210000
UID:69e607c637c3a19
DTSTAMP:20260420T130230
LOCATION:Leopoldstraße 1
DESCRIPTION:Jeden Mittwoch von 18:00 bis 21:00 Uhr findet im Jugendtreff Leo ein offener Mädchenabend für 13- bis 18-Jährige statt.\r\n\r\nDie Mädchen entscheiden selbst\, wie sie den Abend gestalten möchten – ob kreativ\, sportlich\, entspannt oder im Austausch miteinander. Zur Verfügung stehen unter anderem ein eigenes Kino\, ein Fitnessstudio (nach Einweisung frei nutzbar)\, Musikbox\, Küche\, Kicker\, Tischtennis\, Dart\, Mattenbereich sowie Snacks.\r\n\r\nEine pädagogische Fachkraft ist immer vor Ort und begleitet die Jugendlichen.\r\n\r\nDer Mädchenabend ist kostenfrei\, bietet einen sicheren Raum für Gemeinschaft\, neue Freundschaften und persönliche Entwicklung – neue Besucherinnen sind herzlich willkommen.
URL;VALUE=URI:https://www.unser-ferienprogramm.de/bocholt/veranstaltung.php?id=303618
SUMMARY:Mädchenabend im Jugendtreff Leo
DTSTART;TZID=Europe/Berlin:20260722T180000
END:VEVENT


BEGIN:VEVENT
DTEND;TZID=Europe/Berlin:20260729T210000
UID:69e607c637c4820
DTSTAMP:20260420T130230
LOCATION:Leopoldstraße 1
DESCRIPTION:Jeden Mittwoch von 18:00 bis 21:00 Uhr findet im Jugendtreff Leo ein offener Mädchenabend für 13- bis 18-Jährige statt.\r\n\r\nDie Mädchen entscheiden selbst\, wie sie den Abend gestalten möchten – ob kreativ\, sportlich\, entspannt oder im Austausch miteinander. Zur Verfügung stehen unter anderem ein eigenes Kino\, ein Fitnessstudio (nach Einweisung frei nutzbar)\, Musikbox\, Küche\, Kicker\, Tischtennis\, Dart\, Mattenbereich sowie Snacks.\r\n\r\nEine pädagogische Fachkraft ist immer vor Ort und begleitet die Jugendlichen.\r\n\r\nDer Mädchenabend ist kostenfrei\, bietet einen sicheren Raum für Gemeinschaft\, neue Freundschaften und persönliche Entwicklung – neue Besucherinnen sind herzlich willkommen.
URL;VALUE=URI:https://www.unser-ferienprogramm.de/bocholt/veranstaltung.php?id=303618
SUMMARY:Mädchenabend im Jugendtreff Leo
DTSTART;TZID=Europe/Berlin:20260729T180000
END:VEVENT

END:VCALENDAR
