BEGIN:VCALENDAR
VERSION:2.0
PRODID:-//hacksw/handcal//NONSGML v1.0//EN
CALSCALE:GREGORIAN
BEGIN:VTIMEZONE
TZID:Europe/Berlin
X-LIC-LOCATION:Europe/Berlin
BEGIN:DAYLIGHT
TZOFFSETFROM:+0100
TZOFFSETTO:+0200
TZNAME:CEST
DTSTART:19700329T020000
RRULE:FREQ=YEARLY;BYDAY=-1SU;BYMONTH=3
END:DAYLIGHT
BEGIN:STANDARD
TZOFFSETFROM:+0200
TZOFFSETTO:+0100
TZNAME:CET
DTSTART:19701025T030000
RRULE:FREQ=YEARLY;BYDAY=-1SU;BYMONTH=10
END:STANDARD
END:VTIMEZONE
BEGIN:VEVENT
DTEND;TZID=Europe/Berlin:20260220T174500
UID:69e649ba03817
DTSTAMP:20260420T174354
LOCATION:Aula im August-Vetter-Berufskolleg\, Dinxperloer Straße 56
DESCRIPTION:Der kleine Häwelmann« erzählt die fantastische Geschichte eines kleinen Jungen\, der davon träumt\, fliegen zu können. Eines Nachts gelingt es ihm tatsächlich\, durch das offene Fenster zu fliegen und dabei viele aufregende Abenteuer zu erleben. Die Erzählung thematisiert die Sehnsucht nach Freiheit\, die Kraft der Fantasie und den Mut\, seine Träume zu verwirklichen. Das Theaterstück entführt das Publikum auf eine abenteuerliche Nachtfahrt in eine zauberhafte Welt voller Magie.\r\n\r\nTheodor Storm zählt noch heute zu den beliebtesten Dichtern des 19. Jahrhunderts. Storm schrieb viele bekannte Gedichte und Geschichten\, darunter auch das berühmte Kinderbuch »Der kleine Häwelmann« und die Novelle »Der Schimmelreiter«. Theodor Storm begeistert mit seinen fantasievollen Geschichten Kinder und Erwachsene gleichermaßen.
URL;VALUE=URI:https://www.unser-ferienprogramm.de/bocholt/veranstaltung.php?id=297442
SUMMARY: Der kleine Häwelmann
DTSTART;TZID=Europe/Berlin:20260220T170000
END:VEVENT

END:VCALENDAR
