BEGIN:VCALENDAR
VERSION:2.0
PRODID:-//hacksw/handcal//NONSGML v1.0//EN
CALSCALE:GREGORIAN
BEGIN:VTIMEZONE
TZID:Europe/Berlin
X-LIC-LOCATION:Europe/Berlin
BEGIN:DAYLIGHT
TZOFFSETFROM:+0100
TZOFFSETTO:+0200
TZNAME:CEST
DTSTART:19700329T020000
RRULE:FREQ=YEARLY;BYDAY=-1SU;BYMONTH=3
END:DAYLIGHT
BEGIN:STANDARD
TZOFFSETFROM:+0200
TZOFFSETTO:+0100
TZNAME:CET
DTSTART:19701025T030000
RRULE:FREQ=YEARLY;BYDAY=-1SU;BYMONTH=10
END:STANDARD
END:VTIMEZONE
BEGIN:VEVENT
DTEND;TZID=Europe/Berlin:20260509T170000
UID:69e605693941a
DTSTAMP:20260420T125225
LOCATION:46395 Bocholt
DESCRIPTION:Am 9. Mai verwandelt sich das Textilwerk in eine galaktische Werkstatt. Hier kannst du deinen eigenen Baby Grogu (Baby Yoda) filzen – und er gehört dann ganz dir! Mit Filzwolle\, speziellen Nadeln und viel Kreativität erschaffst du die großen Ohren\, die süßen Augen und das braune Gewand. Lerne dabei uralte Textiltechniken kennen und entdecke\, woraus die Kostüme aus Star Wars bestehen. Zwischendurch gibt's galaktische Kekse in unserer Cantina.\r\n\r\nDieser Workshop findet nur einmal im Jahr statt\, am folgenden Samstag nach dem Star Wars Day. \r\n\r\n
URL;VALUE=URI:https://www.unser-ferienprogramm.de/bocholt/veranstaltung.php?id=295751
SUMMARY:May the Craft be with you!  Einmal im Jahr wird's galaktisch!
DTSTART;TZID=Europe/Berlin:20260509T140000
END:VEVENT

END:VCALENDAR
