BEGIN:VCALENDAR
VERSION:2.0
PRODID:-//hacksw/handcal//NONSGML v1.0//EN
CALSCALE:GREGORIAN
BEGIN:VTIMEZONE
TZID:Europe/Berlin
X-LIC-LOCATION:Europe/Berlin
BEGIN:DAYLIGHT
TZOFFSETFROM:+0100
TZOFFSETTO:+0200
TZNAME:CEST
DTSTART:19700329T020000
RRULE:FREQ=YEARLY;BYDAY=-1SU;BYMONTH=3
END:DAYLIGHT
BEGIN:STANDARD
TZOFFSETFROM:+0200
TZOFFSETTO:+0100
TZNAME:CET
DTSTART:19701025T030000
RRULE:FREQ=YEARLY;BYDAY=-1SU;BYMONTH=10
END:STANDARD
END:VTIMEZONE
BEGIN:VEVENT
DTEND;TZID=Europe/Berlin:20260724T160000
UID:69e609debd340
DTSTAMP:20260420T131126
LOCATION:46395 Bocholt
DESCRIPTION:Fünf Tage voller Action\, Style & guter Laune! Bewege Dich wie ein Profi\, kreiere deinen eigenen Style! Wir mixen die leckersten Smoothies\, designen Kleidungselemente und zaubern gemeinsam gesunde Power-Snacks! Von coolen Choreografien bis hin zur großen Abschluss-Show – hier entscheidest Du! Fühl dich wohl in deiner Haut und zeig der Welt\, wie einzigartig du bist!\r\n\r\nAchtung: Die max. Teilnehmer:innenzahl ist erreicht - Anmeldungen sind nur noch für die Warteliste möglich.
URL;VALUE=URI:https://www.unser-ferienprogramm.de/bocholt/veranstaltung.php?id=295749
SUMMARY:Move & Style | Hey Superstar!
DTSTART;TZID=Europe/Berlin:20260720T090000
END:VEVENT

END:VCALENDAR
