BEGIN:VCALENDAR
VERSION:2.0
PRODID:-//hacksw/handcal//NONSGML v1.0//EN
CALSCALE:GREGORIAN
BEGIN:VTIMEZONE
TZID:Europe/Berlin
X-LIC-LOCATION:Europe/Berlin
BEGIN:DAYLIGHT
TZOFFSETFROM:+0100
TZOFFSETTO:+0200
TZNAME:CEST
DTSTART:19700329T020000
RRULE:FREQ=YEARLY;BYDAY=-1SU;BYMONTH=3
END:DAYLIGHT
BEGIN:STANDARD
TZOFFSETFROM:+0200
TZOFFSETTO:+0100
TZNAME:CET
DTSTART:19701025T030000
RRULE:FREQ=YEARLY;BYDAY=-1SU;BYMONTH=10
END:STANDARD
END:VTIMEZONE
BEGIN:VEVENT
DTEND;TZID=Europe/Berlin:20261021T160000
UID:69e61ca6b23cd
DTSTAMP:20260420T143134
LOCATION:46395 Bocholt
DESCRIPTION:Hurra\, die Kirmes ist da! Große Vorfreude herrschte auch früher unter den Webern und Spinnerinnen\, die hart in den Fabriken arbeiteten. Einmal im Jahr war Kirmes in Bocholt. Der Betrieb wurde zugemacht\, der Heizkessel heruntergefahren. Was aber geschah\, wenn die Türen geschlossen waren? Und wie sah die Kirmes für Kinder vor 100 Jahren aus? Ringe werfen\, Buden mit Zuckerwatte und Popcorn und\, und\, und... Es wird wunderbar\, flüstert die Wahrsagerin!\r\n \r\n
URL;VALUE=URI:https://www.unser-ferienprogramm.de/bocholt/veranstaltung.php?id=295745
SUMMARY:Hereinspaziert! After Kirmes
DTSTART;TZID=Europe/Berlin:20261020T090000
END:VEVENT

END:VCALENDAR
