BEGIN:VCALENDAR
VERSION:2.0
PRODID:-//hacksw/handcal//NONSGML v1.0//EN
CALSCALE:GREGORIAN
BEGIN:VTIMEZONE
TZID:Europe/Berlin
X-LIC-LOCATION:Europe/Berlin
BEGIN:DAYLIGHT
TZOFFSETFROM:+0100
TZOFFSETTO:+0200
TZNAME:CEST
DTSTART:19700329T020000
RRULE:FREQ=YEARLY;BYDAY=-1SU;BYMONTH=3
END:DAYLIGHT
BEGIN:STANDARD
TZOFFSETFROM:+0200
TZOFFSETTO:+0100
TZNAME:CET
DTSTART:19701025T030000
RRULE:FREQ=YEARLY;BYDAY=-1SU;BYMONTH=10
END:STANDARD
END:VTIMEZONE
BEGIN:VEVENT
DTEND;TZID=Europe/Berlin:20260831T160000
UID:69e61cc6614ab
DTSTAMP:20260420T143206
LOCATION:Im Königsesch 45
DESCRIPTION:Wir bieten mit diesem Programm einen Tagesausflug zum Gochness Schwimmbad in Goch für Kinder ab dem Grundschulalter an. Die Betreuungszeit startet um 9 Uhr und endet um 16 Uhr. Eine Frühbetreuung ist ab 7.30 Uhr möglich. Im Anschluss an diese online-Anmeldung\, werden wir ein Formular per Mail versenden. Damit werden die von uns benötigten Daten abgefragt. Bitte füllen Sie dieses Dokument zeitnah und sorgsam aus. Erst mit dem Eingang dieses Dokumentes wird die Anmeldung für uns wirksam.\r\nFür diesen Ausflug erheben wir einen Beitrag von 25\,-€. Damit werden neben der Betreuung das gemeinsame Mittagessen\, Getränke\, Snacks und die Beförderung der Gruppe finanziert. Sollte eine Frühbetreuung (inkl. Frühstück) benötigt werden\, ist es möglich diese für 3\,-€ am Tag dazu zu buchen. Das Angebot kann über die Münsterlandkarte finanziert werden. Die Anweisungen für die Bezahlung können Sie der oben beschriebenen Anmeldung entnehmen.\r\nÜber alle für Sie wichtigen Informationen werden Sie kurz vor den Ferien mit einem Elternbrief informiert.\r\n
URL;VALUE=URI:https://www.unser-ferienprogramm.de/bocholt/veranstaltung.php?id=294408
SUMMARY:Sommerausflug Gochness
DTSTART;TZID=Europe/Berlin:20260831T090000
END:VEVENT

END:VCALENDAR
