BEGIN:VCALENDAR
VERSION:2.0
PRODID:-//hacksw/handcal//NONSGML v1.0//EN
CALSCALE:GREGORIAN
BEGIN:VTIMEZONE
TZID:Europe/Berlin
X-LIC-LOCATION:Europe/Berlin
BEGIN:DAYLIGHT
TZOFFSETFROM:+0100
TZOFFSETTO:+0200
TZNAME:CEST
DTSTART:19700329T020000
RRULE:FREQ=YEARLY;BYDAY=-1SU;BYMONTH=3
END:DAYLIGHT
BEGIN:STANDARD
TZOFFSETFROM:+0200
TZOFFSETTO:+0100
TZNAME:CET
DTSTART:19701025T030000
RRULE:FREQ=YEARLY;BYDAY=-1SU;BYMONTH=10
END:STANDARD
END:VTIMEZONE
BEGIN:VEVENT
DTEND;TZID=Europe/Berlin:20270106T163000
UID:69e609861b9fc
DTSTAMP:20260420T130958
LOCATION:Bocholt
DESCRIPTION:Wir bieten als Träger des Offenen Ganztages (OGS)  zu den Ferienzeiten nur für bereits beschulte Kinder (!) im Grundschulalter abgestimmte Betreuungsmaßnahmen in den Stadtbezirken von Bocholt und Südlohn an.\r\n\r\nAnmeldezeiten zur Ferienbetreuung\r\nFrühling:\t \tab dem 15.01. d.J.\r\nSommer:\t \tab dem 15.01. d.J.\r\nHerbst:\t \tab dem 01.09. d.J.\r\nWinter:\t \tab dem 01.09. d.J.\r\n\r\nAnmeldungen nur unter: \r\n\r\nhttps://kids-ferien.org/Events
URL;VALUE=URI:https://www.unser-ferienprogramm.de/bocholt/veranstaltung.php?id=293667
SUMMARY:2026 - Ferienspiele K.i.d.S. gGmbH
DTSTART;TZID=Europe/Berlin:20260330T080000
END:VEVENT

END:VCALENDAR
