BEGIN:VCALENDAR
VERSION:2.0
PRODID:-//hacksw/handcal//NONSGML v1.0//EN
CALSCALE:GREGORIAN
BEGIN:VTIMEZONE
TZID:Europe/Berlin
X-LIC-LOCATION:Europe/Berlin
BEGIN:DAYLIGHT
TZOFFSETFROM:+0100
TZOFFSETTO:+0200
TZNAME:CEST
DTSTART:19700329T020000
RRULE:FREQ=YEARLY;BYDAY=-1SU;BYMONTH=3
END:DAYLIGHT
BEGIN:STANDARD
TZOFFSETFROM:+0200
TZOFFSETTO:+0100
TZNAME:CET
DTSTART:19701025T030000
RRULE:FREQ=YEARLY;BYDAY=-1SU;BYMONTH=10
END:STANDARD
END:VTIMEZONE
BEGIN:VEVENT
DTEND;TZID=Europe/Berlin:20260731T150000
UID:69e606034ce86
DTSTAMP:20260420T125459
LOCATION:Berufsbildungsstätte Bocholt\, Robert Bosch Str. 7-9
DESCRIPTION:SAVE THE DATE: 27.07. – 31.07.2026\r\nLiebe Schülerinnen\, liebe Schüler\, liebe Eltern\,\r\n\r\nwir haben aktuell mit der Planung für die 5. Auflage des Abenteuer Handwerk begonnen!\r\n\r\nEuch wird auch im Jahr 2026 ein spannendes handwerkliches Event zum selber Mitmachen erwarten.\r\n\r\nDas Abenteuer Handwerk ist eine einzigartige Veranstaltung\, die Handwerkskunst und Kreativität fördert und ein erstes Netzwerken mit Betrieben und Firmen ermöglicht. Wir bieten euch die Möglichkeit\, Handwerker aus verschiedensten Berufen aus der Region kennenzulernen und mit ihnen selbst aktiv zu werden. Von traditionellen Handwerksmethoden bis hin zu modernen Techniken gibt es für jeden etwas zu entdecken.\r\n\r\nAuch für diese Auflage des Abenteuer Handwerk wird ein abwechslungsreiches Programm geplant. Ihr könnt neue Fähigkeiten erlernen\, handwerkliche Projekte starten oder einfach nur die Welt des Handwerks erleben / erkunden.\r\n\r\nMerkt euch also den Termin schon mal vor und seid dabei\, wenn wir gemeinsam die 5. Runde des Abenteuer Handwerk mit euch erleben wollen. Weitere Informationen zu den genauen Veranstaltungen und das detaillierte Programm werden ab Mai 2026 unter\r\n\r\nhttps://www.bbs-ahaus.de/erstausbildung/handwerkliche-ausbildung/abenteuer-handwerk/\r\n\r\nbekanntgegeben. 
URL;VALUE=URI:https://www.unser-ferienprogramm.de/bocholt/veranstaltung.php?id=285199
SUMMARY:Abenteuer Handwerk
DTSTART;TZID=Europe/Berlin:20260727T085000
END:VEVENT

END:VCALENDAR
