BEGIN:VCALENDAR
VERSION:2.0
PRODID:-//hacksw/handcal//NONSGML v1.0//EN
CALSCALE:GREGORIAN
BEGIN:VTIMEZONE
TZID:Europe/Berlin
X-LIC-LOCATION:Europe/Berlin
BEGIN:DAYLIGHT
TZOFFSETFROM:+0100
TZOFFSETTO:+0200
TZNAME:CEST
DTSTART:19700329T020000
RRULE:FREQ=YEARLY;BYDAY=-1SU;BYMONTH=3
END:DAYLIGHT
BEGIN:STANDARD
TZOFFSETFROM:+0200
TZOFFSETTO:+0100
TZNAME:CET
DTSTART:19701025T030000
RRULE:FREQ=YEARLY;BYDAY=-1SU;BYMONTH=10
END:STANDARD
END:VTIMEZONE
BEGIN:VEVENT
DTEND;TZID=Europe/Berlin:20260814T130000
UID:69e61cce7da0d
DTSTAMP:20260420T143214
LOCATION:Kunsthaus\, Osterstr.69\, 46397 Bocholt
DESCRIPTION:Der EUREGIO-Kunstkreis e.V. veranstaltet regelmäßig die Sommermalschule im Kunsthaus in der Osterstr. 69 in 46397 Bocholt in Kooperation mit der Stadt Bocholt.\r\n\r\n"Die Welt ist bunt\, und genau das werden wir in den drei Wochen der Sommermalschule sichtbar machen und leben"\, verspricht die Kursleiterin Andrea de Ruiter.\r\n\r\nDen Kindern werden Einblicke in die abstrakte Malerei und das kreative Gestalten mit unterschiedlichen Materialien geben. Neben individuellen Werken\, die jedes einzelne Kind gestaltet\, werden die Kinder ihrer Kreativität auch in einem Gemeinschaftswerk pro Kurs freien Lauf lassen. Die Werke werden nach den Kursen im Kunsthaus öffentlich ausgestellt.\r\n\r\nDie Anmeldung erfolgt online\, nach den Osterferien ab Montag\, den 13.04.2026 ab 9.00 Uhr über folgenden Link:\r\nhttps://www.bocholt.de/sommermalschule\r\n
URL;VALUE=URI:https://www.unser-ferienprogramm.de/bocholt/veranstaltung.php?id=244798
SUMMARY:Sommermalschule III
DTSTART;TZID=Europe/Berlin:20260810T100000
END:VEVENT

END:VCALENDAR
