BEGIN:VCALENDAR
VERSION:2.0
PRODID:-//hacksw/handcal//NONSGML v1.0//EN
CALSCALE:GREGORIAN
BEGIN:VTIMEZONE
TZID:Europe/Berlin
X-LIC-LOCATION:Europe/Berlin
BEGIN:DAYLIGHT
TZOFFSETFROM:+0100
TZOFFSETTO:+0200
TZNAME:CEST
DTSTART:19700329T020000
RRULE:FREQ=YEARLY;BYDAY=-1SU;BYMONTH=3
END:DAYLIGHT
BEGIN:STANDARD
TZOFFSETFROM:+0200
TZOFFSETTO:+0100
TZNAME:CET
DTSTART:19701025T030000
RRULE:FREQ=YEARLY;BYDAY=-1SU;BYMONTH=10
END:STANDARD
END:VTIMEZONE
BEGIN:VEVENT
DTEND;TZID=Europe/Berlin:20260410T200000
UID:69e630fe6e6a0
DTSTAMP:20260420T155822
LOCATION:Hochfeldstr. 56 b\; 46397 Bocholt
DESCRIPTION:Der Offene Treff JUCCA hat täglich von 13.00 - 20.00 Uhr geöffnet.\r\nKinder und Jugendliche können ohne Anmeldung mit Freunden oder alleine\r\nBillard und Kicker spielen\, Freunde treffen oder neue Leute kennenlernen\, Musik hören\,...\, und Vieles mehr! Falls ihr Wünsche habt\, dann meldet euch gerne!\r\n\r\nTäglich findet zusätzlich ein Angebot für Kids oder Teens statt. Diese Angebote werden kurz vor den Ferien im Freizeitprogramm Bocholt bekanntgegeben. Keine Anmeldung notwendig. \r\n\r\n\r\n
URL;VALUE=URI:https://www.unser-ferienprogramm.de/bocholt/veranstaltung.php?id=241079
SUMMARY:Offene Woche im JUCCA
DTSTART;TZID=Europe/Berlin:20260407T130000
END:VEVENT

END:VCALENDAR
