BEGIN:VCALENDAR
VERSION:2.0
PRODID:-//hacksw/handcal//NONSGML v1.0//EN
CALSCALE:GREGORIAN
BEGIN:VTIMEZONE
TZID:Europe/Berlin
X-LIC-LOCATION:Europe/Berlin
BEGIN:DAYLIGHT
TZOFFSETFROM:+0100
TZOFFSETTO:+0200
TZNAME:CEST
DTSTART:19700329T020000
RRULE:FREQ=YEARLY;BYDAY=-1SU;BYMONTH=3
END:DAYLIGHT
BEGIN:STANDARD
TZOFFSETFROM:+0200
TZOFFSETTO:+0100
TZNAME:CET
DTSTART:19701025T030000
RRULE:FREQ=YEARLY;BYDAY=-1SU;BYMONTH=10
END:STANDARD
END:VTIMEZONE
BEGIN:VEVENT
DTEND;TZID=Europe/Berlin:20261023T000000
UID:69e634854bfa6
DTSTAMP:20260420T161325
LOCATION:Hochfeldstr. 56 b\; 46397 Bocholt
DESCRIPTION:Motto der ersten Herbstferienspielwoche:\r\n"Jucca total verrückt - die kunterbunte Mottowoche"\r\n\r\n\r\nTäglich von 9.00/9.30 Uhr (Bringzeit) bis 16.00/16.30 Uhr (Abholzeit)\r\nBei Bedarf kann eine Frühbetreuung hinzugebucht werden (7.30 - 9.00 Uhr)\r\nKosten für die Frühbetreuung 15 €.\r\n\r\nBei einer Stornierung fällt eine Gebühr von 15 € an.\r\n\r\n
URL;VALUE=URI:https://www.unser-ferienprogramm.de/bocholt/veranstaltung.php?id=241074
SUMMARY:Herbstferienspiele im JUCCA
DTSTART;TZID=Europe/Berlin:20261020T000000
END:VEVENT

END:VCALENDAR
