BEGIN:VCALENDAR
VERSION:2.0
PRODID:-//hacksw/handcal//NONSGML v1.0//EN
CALSCALE:GREGORIAN
BEGIN:VTIMEZONE
TZID:Europe/Berlin
X-LIC-LOCATION:Europe/Berlin
BEGIN:DAYLIGHT
TZOFFSETFROM:+0100
TZOFFSETTO:+0200
TZNAME:CEST
DTSTART:19700329T020000
RRULE:FREQ=YEARLY;BYDAY=-1SU;BYMONTH=3
END:DAYLIGHT
BEGIN:STANDARD
TZOFFSETFROM:+0200
TZOFFSETTO:+0100
TZNAME:CET
DTSTART:19701025T030000
RRULE:FREQ=YEARLY;BYDAY=-1SU;BYMONTH=10
END:STANDARD
END:VTIMEZONE
BEGIN:VEVENT
DTEND;TZID=Europe/Berlin:20260731T000000
UID:69e6094db1f76
DTSTAMP:20260420T130901
LOCATION:Bocholt
DESCRIPTION:Täglich ca. 11:00 bis 17:00 Uhr je nach Angebot verschiedene Freizeit- und Kreativangebote wie z. B. Schwimmen\, Workshops\, Gruppenspiele\r\nKosten: 150\,00 €\, für Inhaber der Münsterlandkarte ist die Teilnahme kostenlos.\r\nBitte überweisen Sie an das \r\nKSJ - "Café Karton"\r\nTN-Beitrag Sommerferienspiele für.....\r\nIBAN: DE63 4285 0035 0000 1024 34\r\n\r\nFinanzierung: Sie können den Teilnahmebeitrag bei uns in bar bezahlen\, wenn Sie die Anmeldung abgeben\, oder Sie überweisen den Betrag. Auch eine Abrechnung über die Münsterlandkarte ist möglich.\r\n
URL;VALUE=URI:https://www.unser-ferienprogramm.de/bocholt/veranstaltung.php?id=239326
SUMMARY:Sommerferienspiele im Café Karton
DTSTART;TZID=Europe/Berlin:20260720T000000
END:VEVENT

END:VCALENDAR
