BEGIN:VCALENDAR
VERSION:2.0
PRODID:-//hacksw/handcal//NONSGML v1.0//EN
CALSCALE:GREGORIAN
BEGIN:VTIMEZONE
TZID:Europe/Berlin
X-LIC-LOCATION:Europe/Berlin
BEGIN:DAYLIGHT
TZOFFSETFROM:+0100
TZOFFSETTO:+0200
TZNAME:CEST
DTSTART:19700329T020000
RRULE:FREQ=YEARLY;BYDAY=-1SU;BYMONTH=3
END:DAYLIGHT
BEGIN:STANDARD
TZOFFSETFROM:+0200
TZOFFSETTO:+0100
TZNAME:CET
DTSTART:19701025T030000
RRULE:FREQ=YEARLY;BYDAY=-1SU;BYMONTH=10
END:STANDARD
END:VTIMEZONE
BEGIN:VEVENT
DTEND;TZID=Europe/Berlin:20260506T170000
UID:69e60762cc622
DTSTAMP:20260420T130050
LOCATION:Alte Molkerei\, Werther Str.16 in 46395 Bocholt
DESCRIPTION:Als der große Bär langsam aus seinem langen Winterschlaf erwacht\, merkt er\, dass er ganz allein ist. Doch weil er nun stark und erwachsen ist\, wünscht er sich nichts sehnlicher\, als Bärenpapa zu werden. Er träumt davon\, jemanden zum Spielen und Kuscheln zu haben. Aber wie soll er das anstellen? Woher bekommt er ein Bärenkind? \r\n\r\nHase\, Vogelküken und Maus geben ihm die merkwürdigsten Ratschläge – und obwohl sie seltsam klingen\, setzt der große Bär sie hoffnungsvoll um. Schließlich will er keine Möglichkeit ungenutzt lassen. Doch egal\, wie sehr er sich bemüht\, sein Wunsch bleibt unerfüllt. Enttäuscht blickt er in den Himmel und verfolgt nachdenklich die ziehenden Wolken. Da spricht ihn eine reizende Bärenfrau an…
URL;VALUE=URI:https://www.unser-ferienprogramm.de/bocholt/veranstaltung.php?id=239195
SUMMARY:Das Bärenwunder
DTSTART;TZID=Europe/Berlin:20260506T160000
END:VEVENT

END:VCALENDAR
