BEGIN:VCALENDAR
VERSION:2.0
PRODID:-//hacksw/handcal//NONSGML v1.0//EN
CALSCALE:GREGORIAN
BEGIN:VTIMEZONE
TZID:Europe/Berlin
X-LIC-LOCATION:Europe/Berlin
BEGIN:DAYLIGHT
TZOFFSETFROM:+0100
TZOFFSETTO:+0200
TZNAME:CEST
DTSTART:19700329T020000
RRULE:FREQ=YEARLY;BYDAY=-1SU;BYMONTH=3
END:DAYLIGHT
BEGIN:STANDARD
TZOFFSETFROM:+0200
TZOFFSETTO:+0100
TZNAME:CET
DTSTART:19701025T030000
RRULE:FREQ=YEARLY;BYDAY=-1SU;BYMONTH=10
END:STANDARD
END:VTIMEZONE
BEGIN:VEVENT
DTEND;TZID=Europe/Berlin:20260507T110000
UID:69e60568d4363
DTSTAMP:20260420T125224
LOCATION:LWL - Industrie Museum Textilwerk Bocholt\, Spinnerei (Drosselsaal)\, Industriestr.5
DESCRIPTION:Am letzten Schultag vor den Ferien prahlen alle Kinder der Klasse 6a mit ihren Urlaubszielen: Mallorca\, Florida\, Südfrankreich\, Dubai. Nur Ina schweigt\, da sie wie so oft ihren Urlaub in der Hochhaussiedlung verbringen wird. Ihrer Mutter fehlt das Geld für den Urlaub. Als ihre Mitschülerinnen und Mitschüler nicht aufhören\, sie zu löchern\, wo sie denn hinfährt\, hört sie sich auf einmal vor der ganzen Klasse sagen: »In den Süden!« Damit die Lüge nicht auffliegt\, bleibt Ina ab dem ersten Ferientag von morgens bis abends in ihrem Zimmer.\r\n\r\nDoch Ina hat nicht mit Vilmer\, dem Neuen aus der Klasse\, gerechnet. Er entdeckt Ina in ihrem Exil und lockt sie mit Hartnäckigkeit heraus\, um ihr Luftschloss\, die Reise in den Süden\, Wirklichkeit werden zu lassen. Und Ina wird klar: Das Wichtigste ist nicht\, wo man sich befindet\, sondern\, mit wem man dort ist.\r\n\r\nDie norwegische Kinder- und Jugendbuchautorin Marianne Kaurin debütierte 2012 mit dem Jugendroman »Beinahe Herbst«\, für den sie großartige Kritiken und zwei der wichtigsten Jugendliteraturpreise ihres Landes erhielt. Ihr Jugendroman »Irgendwo ist immer Süden« wurde 2021 mit dem Deutschen Jugendliteraturpreis ausgezeichnet.
URL;VALUE=URI:https://www.unser-ferienprogramm.de/bocholt/veranstaltung.php?id=239192
SUMMARY:Irgendwo ist immer Süden Jugendtheater
DTSTART;TZID=Europe/Berlin:20260507T110000
END:VEVENT

END:VCALENDAR
