BEGIN:VCALENDAR
VERSION:2.0
PRODID:-//hacksw/handcal//NONSGML v1.0//EN
CALSCALE:GREGORIAN
BEGIN:VTIMEZONE
TZID:Europe/Berlin
X-LIC-LOCATION:Europe/Berlin
BEGIN:DAYLIGHT
TZOFFSETFROM:+0100
TZOFFSETTO:+0200
TZNAME:CEST
DTSTART:19700329T020000
RRULE:FREQ=YEARLY;BYDAY=-1SU;BYMONTH=3
END:DAYLIGHT
BEGIN:STANDARD
TZOFFSETFROM:+0200
TZOFFSETTO:+0100
TZNAME:CET
DTSTART:19701025T030000
RRULE:FREQ=YEARLY;BYDAY=-1SU;BYMONTH=10
END:STANDARD
END:VTIMEZONE
BEGIN:VEVENT
DTEND;TZID=Europe/Berlin:20260806T000000
UID:69e61cc4d59a0
DTSTAMP:20260420T143204
LOCATION:Bocholt
DESCRIPTION:Ferienfreizeit der DJK Liedern \r\n\r\nProgramm: voraussichtlich Karl-May-Festpiele Elspe und Freizeitpark Fort Fun\, diverse Tagesaktionen im Lager\, dazu tägliches Spiel- und Sportangebot\r\n \r\nTeilnehmerzahl: 80 Kinder zwischen 8 und 13 Jahren\r\n \r\nKosten: voraussichtlich 350\,00 EUR\r\n \r\nAnmeldung:  ab Ende Dezember/Anfang Januar unter  https://djk-liedern.de/ \r\nHier finden Sie auch weitere Informationen zur Anmeldung\, Bezahlung etc.\r\n 
URL;VALUE=URI:https://www.unser-ferienprogramm.de/bocholt/veranstaltung.php?id=238872
SUMMARY:Sommer- Ferienfreizeit DJK  TUS 1909 Liedern
DTSTART;TZID=Europe/Berlin:20260726T000000
END:VEVENT

END:VCALENDAR
