BEGIN:VCALENDAR
VERSION:2.0
PRODID:-//hacksw/handcal//NONSGML v1.0//EN
CALSCALE:GREGORIAN
BEGIN:VTIMEZONE
TZID:Europe/Berlin
X-LIC-LOCATION:Europe/Berlin
BEGIN:DAYLIGHT
TZOFFSETFROM:+0100
TZOFFSETTO:+0200
TZNAME:CEST
DTSTART:19700329T020000
RRULE:FREQ=YEARLY;BYDAY=-1SU;BYMONTH=3
END:DAYLIGHT
BEGIN:STANDARD
TZOFFSETFROM:+0200
TZOFFSETTO:+0100
TZNAME:CET
DTSTART:19701025T030000
RRULE:FREQ=YEARLY;BYDAY=-1SU;BYMONTH=10
END:STANDARD
END:VTIMEZONE
BEGIN:VEVENT
DTEND;TZID=Europe/Berlin:20260726T000000
UID:69e605cdd1d2b
DTSTAMP:20260420T125405
LOCATION:
DESCRIPTION:Europäisches Jugendcamp 2026 – Bist du dabei?\r\n\r\nHey!\r\n\r\nHast du Lust auf eine richtig coole Woche in den Sommerferien? Dann komm vom 19. bis 26. Juli 2026 ins Europa-Haus Bocholt zum europäischen Jugendcamp!\r\n\r\nDich erwarten unter dem Motto „Fit für Europa 2026 – Sport\, Gesundheit und Kochen in der Europastadt Bocholt“ eine Woche voller Action\, Spaß und neuer Leute aus Bocholts befreundeten sowie Partnerstädten – und ganz viel Europa-Feeling.\r\nKosten: 125 € (inkl. Unterkunft\, Essen & allen Aktivitäten).\r\n\r\nWenn du zwischen 14 und 17 bist\, Englisch einigermaßen kannst und aus Bocholt kommst\, melde dich einfach per Mail bei petra.taubach@bocholt.de Dort werden auch mögliche Fragen beantwortet.\r\n\r\nWir freuen uns mega auf dich – lass uns zusammen eine unvergessliche Woche starten und die europäische Freundschaft feiern! ✨????\r\n\r\n\r\nStadt Bocholt und EUROPE DIRECT Bocholt\r\n
URL;VALUE=URI:https://www.unser-ferienprogramm.de/bocholt/veranstaltung.php?id=238532
SUMMARY:Europäisches Jugendcamp der Stadt Bocholt
DTSTART;TZID=Europe/Berlin:20260719T000000
END:VEVENT

END:VCALENDAR
