BEGIN:VCALENDAR
VERSION:2.0
PRODID:-//hacksw/handcal//NONSGML v1.0//EN
CALSCALE:GREGORIAN
BEGIN:VTIMEZONE
TZID:Europe/Berlin
X-LIC-LOCATION:Europe/Berlin
BEGIN:DAYLIGHT
TZOFFSETFROM:+0100
TZOFFSETTO:+0200
TZNAME:CEST
DTSTART:19700329T020000
RRULE:FREQ=YEARLY;BYDAY=-1SU;BYMONTH=3
END:DAYLIGHT
BEGIN:STANDARD
TZOFFSETFROM:+0200
TZOFFSETTO:+0100
TZNAME:CET
DTSTART:19701025T030000
RRULE:FREQ=YEARLY;BYDAY=-1SU;BYMONTH=10
END:STANDARD
END:VTIMEZONE
BEGIN:VEVENT
DTEND;TZID=Europe/Berlin:20260402T163000
UID:69e63114ec153
DTSTAMP:20260420T155844
LOCATION:St. Bernhard Schule Lowick
DESCRIPTION:Ein geschultes Ehrenamtsteam bietet ein umfangreiches Bewegungs-\, Kreativitäts- und Spielangebot an. Hieraus können die Kinder und Jugendlichen frei wählen.\r\n\r\nMorgens starten wir mit einem gemeinsamen Frühstück in den Tag\, wofür jeder sein eigenes Essen von Zuhause mitbringt.\r\n\r\nDas Programm beinhaltet täglich ein warmes Mittagessen und Getränke.\r\n\r\nAm Mittwoch ist Ausflugstag. An diesem Tag gibt es ein Lunchpaket für die Teilnehmenden. Das Ausflugssziel wird noch nicht verraten.\r\n\r\nBringzeit: 8.00 Uhr bis 9.00 Uhr\r\n\r\nAbholzeit: 16.00 Uhr bis 16.30 Uhr
URL;VALUE=URI:https://www.unser-ferienprogramm.de/bocholt/veranstaltung.php?id=238123
SUMMARY:Ferienspiele: Bewegung\, Kreativ und Spiel
DTSTART;TZID=Europe/Berlin:20260330T080000
END:VEVENT

END:VCALENDAR
