BEGIN:VCALENDAR
VERSION:2.0
PRODID:-//hacksw/handcal//NONSGML v1.0//EN
CALSCALE:GREGORIAN
BEGIN:VTIMEZONE
TZID:Europe/Berlin
X-LIC-LOCATION:Europe/Berlin
BEGIN:DAYLIGHT
TZOFFSETFROM:+0100
TZOFFSETTO:+0200
TZNAME:CEST
DTSTART:19700329T020000
RRULE:FREQ=YEARLY;BYDAY=-1SU;BYMONTH=3
END:DAYLIGHT
BEGIN:STANDARD
TZOFFSETFROM:+0200
TZOFFSETTO:+0100
TZNAME:CET
DTSTART:19701025T030000
RRULE:FREQ=YEARLY;BYDAY=-1SU;BYMONTH=10
END:STANDARD
END:VTIMEZONE
BEGIN:VEVENT
DTEND;TZID=Europe/Berlin:20260602T140000
UID:69e73e6017242
DTSTAMP:20260421T110744
LOCATION:Haldenwang
DESCRIPTION:Burger braten!\r\n\r\nFleischburger oder Veggiburger? \r\nBei uns ist für jeden was dabei! \r\n\r\nIhr bereitet die verschiedenen Beläge vor\, bratet die Patties an und belegt euren Burger\, wie er euch gefällt. \r\n\r\nGood to know: \r\n- Bitte eine Schürze / Kleidung\, die dreckig werden darf\, anziehen. 
URL;VALUE=URI:https://www.unser-ferienprogramm.de/betzigau/veranstaltung.php?id=313890
SUMMARY:Burger braten
DTSTART;TZID=Europe/Berlin:20260602T120000
END:VEVENT

END:VCALENDAR
