BEGIN:VCALENDAR
VERSION:2.0
PRODID:-//hacksw/handcal//NONSGML v1.0//EN
CALSCALE:GREGORIAN
BEGIN:VTIMEZONE
TZID:Europe/Berlin
X-LIC-LOCATION:Europe/Berlin
BEGIN:DAYLIGHT
TZOFFSETFROM:+0100
TZOFFSETTO:+0200
TZNAME:CEST
DTSTART:19700329T020000
RRULE:FREQ=YEARLY;BYDAY=-1SU;BYMONTH=3
END:DAYLIGHT
BEGIN:STANDARD
TZOFFSETFROM:+0200
TZOFFSETTO:+0100
TZNAME:CET
DTSTART:19701025T030000
RRULE:FREQ=YEARLY;BYDAY=-1SU;BYMONTH=10
END:STANDARD
END:VTIMEZONE
BEGIN:VEVENT
DTEND;TZID=Europe/Berlin:20260601T110000
UID:69e72ec957011
DTSTAMP:20260421T100113
LOCATION:Rathaus Betzigau
DESCRIPTION:Kreativtag! \r\n\r\nHeute darfst DU frei wählen\, was du gestalten möchtest! \r\n\r\nAus verschiedenen Materialien darfst du dir eigene Kunstwerke gestalten. \r\n\r\nAm besten ziehst du Kleidung an\, die dreckig werden darf und nimmst dir ein eigenes Getränk mit. \r\n
URL;VALUE=URI:https://www.unser-ferienprogramm.de/betzigau/veranstaltung.php?id=313887
SUMMARY:Kreativtag
DTSTART;TZID=Europe/Berlin:20260601T090000
END:VEVENT

END:VCALENDAR
