BEGIN:VCALENDAR
VERSION:2.0
PRODID:-//hacksw/handcal//NONSGML v1.0//EN
CALSCALE:GREGORIAN
BEGIN:VTIMEZONE
TZID:Europe/Berlin
X-LIC-LOCATION:Europe/Berlin
BEGIN:DAYLIGHT
TZOFFSETFROM:+0100
TZOFFSETTO:+0200
TZNAME:CEST
DTSTART:19700329T020000
RRULE:FREQ=YEARLY;BYDAY=-1SU;BYMONTH=3
END:DAYLIGHT
BEGIN:STANDARD
TZOFFSETFROM:+0200
TZOFFSETTO:+0100
TZNAME:CET
DTSTART:19701025T030000
RRULE:FREQ=YEARLY;BYDAY=-1SU;BYMONTH=10
END:STANDARD
END:VTIMEZONE
BEGIN:VEVENT
DTEND;TZID=Europe/Berlin:20250919T190000
UID:69e73e7f87fe1
DTSTAMP:20260421T110815
LOCATION:Hort Hausiraum / Kunstmobil
DESCRIPTION:Jugendtreff Betzigau\r\n\r\nIn den Treffs könnt ihr selbst entscheiden\, was ihr machen wollt. Musik hören\, kreativ werden\, klassische und moderne Gemeinschaftsspiele oder einfach nur chillen und mal nichts tun.\r\n\r\nBitte am hinteren Eingang Holz-/Glasgang Hort an der linken Klingel klingeln.\r\n\r\nWenn wir am Kunstmobil sind\, hängt dort ein Hinweisschild. 
URL;VALUE=URI:https://www.unser-ferienprogramm.de/betzigau/veranstaltung.php?id=290785
SUMMARY:Jugendtreff Betzigau
DTSTART;TZID=Europe/Berlin:20250919T140000
END:VEVENT


BEGIN:VEVENT
DTEND;TZID=Europe/Berlin:20250926T190000
UID:69e73e7f880201
DTSTAMP:20260421T110815
LOCATION:Hort Hausiraum / Kunstmobil
DESCRIPTION:Jugendtreff Betzigau\r\n\r\nIn den Treffs könnt ihr selbst entscheiden\, was ihr machen wollt. Musik hören\, kreativ werden\, klassische und moderne Gemeinschaftsspiele oder einfach nur chillen und mal nichts tun.\r\n\r\nBitte am hinteren Eingang Holz-/Glasgang Hort an der linken Klingel klingeln.\r\n\r\nWenn wir am Kunstmobil sind\, hängt dort ein Hinweisschild. 
URL;VALUE=URI:https://www.unser-ferienprogramm.de/betzigau/veranstaltung.php?id=290785
SUMMARY:Jugendtreff Betzigau
DTSTART;TZID=Europe/Berlin:20250926T140000
END:VEVENT


BEGIN:VEVENT
DTEND;TZID=Europe/Berlin:20251024T190000
UID:69e73e7f8802e2
DTSTAMP:20260421T110815
LOCATION:Hort Hausiraum / Kunstmobil
DESCRIPTION:Jugendtreff Betzigau\r\n\r\nIn den Treffs könnt ihr selbst entscheiden\, was ihr machen wollt. Musik hören\, kreativ werden\, klassische und moderne Gemeinschaftsspiele oder einfach nur chillen und mal nichts tun.\r\n\r\nBitte am hinteren Eingang Holz-/Glasgang Hort an der linken Klingel klingeln.\r\n\r\nWenn wir am Kunstmobil sind\, hängt dort ein Hinweisschild. 
URL;VALUE=URI:https://www.unser-ferienprogramm.de/betzigau/veranstaltung.php?id=290785
SUMMARY:Jugendtreff Betzigau
DTSTART;TZID=Europe/Berlin:20251024T140000
END:VEVENT


BEGIN:VEVENT
DTEND;TZID=Europe/Berlin:20251114T190000
UID:69e73e7f880393
DTSTAMP:20260421T110815
LOCATION:Hort Hausiraum / Kunstmobil
DESCRIPTION:Jugendtreff Betzigau\r\n\r\nIn den Treffs könnt ihr selbst entscheiden\, was ihr machen wollt. Musik hören\, kreativ werden\, klassische und moderne Gemeinschaftsspiele oder einfach nur chillen und mal nichts tun.\r\n\r\nBitte am hinteren Eingang Holz-/Glasgang Hort an der linken Klingel klingeln.\r\n\r\nWenn wir am Kunstmobil sind\, hängt dort ein Hinweisschild. 
URL;VALUE=URI:https://www.unser-ferienprogramm.de/betzigau/veranstaltung.php?id=290785
SUMMARY:Jugendtreff Betzigau
DTSTART;TZID=Europe/Berlin:20251114T140000
END:VEVENT


BEGIN:VEVENT
DTEND;TZID=Europe/Berlin:20251121T190000
UID:69e73e7f880424
DTSTAMP:20260421T110815
LOCATION:Hort Hausiraum / Kunstmobil
DESCRIPTION:Jugendtreff Betzigau\r\n\r\nIn den Treffs könnt ihr selbst entscheiden\, was ihr machen wollt. Musik hören\, kreativ werden\, klassische und moderne Gemeinschaftsspiele oder einfach nur chillen und mal nichts tun.\r\n\r\nBitte am hinteren Eingang Holz-/Glasgang Hort an der linken Klingel klingeln.\r\n\r\nWenn wir am Kunstmobil sind\, hängt dort ein Hinweisschild. 
URL;VALUE=URI:https://www.unser-ferienprogramm.de/betzigau/veranstaltung.php?id=290785
SUMMARY:Jugendtreff Betzigau
DTSTART;TZID=Europe/Berlin:20251121T140000
END:VEVENT


BEGIN:VEVENT
DTEND;TZID=Europe/Berlin:20251128T190000
UID:69e73e7f8804c5
DTSTAMP:20260421T110815
LOCATION:Hort Hausiraum / Kunstmobil
DESCRIPTION:Jugendtreff Betzigau\r\n\r\nIn den Treffs könnt ihr selbst entscheiden\, was ihr machen wollt. Musik hören\, kreativ werden\, klassische und moderne Gemeinschaftsspiele oder einfach nur chillen und mal nichts tun.\r\n\r\nBitte am hinteren Eingang Holz-/Glasgang Hort an der linken Klingel klingeln.\r\n\r\nWenn wir am Kunstmobil sind\, hängt dort ein Hinweisschild. 
URL;VALUE=URI:https://www.unser-ferienprogramm.de/betzigau/veranstaltung.php?id=290785
SUMMARY:Jugendtreff Betzigau
DTSTART;TZID=Europe/Berlin:20251128T140000
END:VEVENT


BEGIN:VEVENT
DTEND;TZID=Europe/Berlin:20251205T170000
UID:69e73e7f880556
DTSTAMP:20260421T110815
LOCATION:Hort Hausiraum / Kunstmobil
DESCRIPTION:Jugendtreff Betzigau\r\n\r\nIn den Treffs könnt ihr selbst entscheiden\, was ihr machen wollt. Musik hören\, kreativ werden\, klassische und moderne Gemeinschaftsspiele oder einfach nur chillen und mal nichts tun.\r\n\r\nBitte am hinteren Eingang Holz-/Glasgang Hort an der linken Klingel klingeln.\r\n\r\nWenn wir am Kunstmobil sind\, hängt dort ein Hinweisschild. 
URL;VALUE=URI:https://www.unser-ferienprogramm.de/betzigau/veranstaltung.php?id=290785
SUMMARY:Jugendtreff Betzigau
DTSTART;TZID=Europe/Berlin:20251205T140000
END:VEVENT


BEGIN:VEVENT
DTEND;TZID=Europe/Berlin:20260109T170000
UID:69e73e7f880617
DTSTAMP:20260421T110815
LOCATION:Hort Hausiraum / Kunstmobil
DESCRIPTION:Jugendtreff Betzigau\r\n\r\nIn den Treffs könnt ihr selbst entscheiden\, was ihr machen wollt. Musik hören\, kreativ werden\, klassische und moderne Gemeinschaftsspiele oder einfach nur chillen und mal nichts tun.\r\n\r\nBitte am hinteren Eingang Holz-/Glasgang Hort an der linken Klingel klingeln.\r\n\r\nWenn wir am Kunstmobil sind\, hängt dort ein Hinweisschild. 
URL;VALUE=URI:https://www.unser-ferienprogramm.de/betzigau/veranstaltung.php?id=290785
SUMMARY:Jugendtreff Betzigau
DTSTART;TZID=Europe/Berlin:20260109T140000
END:VEVENT


BEGIN:VEVENT
DTEND;TZID=Europe/Berlin:20260116T190000
UID:69e73e7f8806b8
DTSTAMP:20260421T110815
LOCATION:Hort Hausiraum / Kunstmobil
DESCRIPTION:Jugendtreff Betzigau\r\n\r\nIn den Treffs könnt ihr selbst entscheiden\, was ihr machen wollt. Musik hören\, kreativ werden\, klassische und moderne Gemeinschaftsspiele oder einfach nur chillen und mal nichts tun.\r\n\r\nBitte am hinteren Eingang Holz-/Glasgang Hort an der linken Klingel klingeln.\r\n\r\nWenn wir am Kunstmobil sind\, hängt dort ein Hinweisschild. 
URL;VALUE=URI:https://www.unser-ferienprogramm.de/betzigau/veranstaltung.php?id=290785
SUMMARY:Jugendtreff Betzigau
DTSTART;TZID=Europe/Berlin:20260116T140000
END:VEVENT


BEGIN:VEVENT
DTEND;TZID=Europe/Berlin:20260123T190000
UID:69e73e7f880759
DTSTAMP:20260421T110815
LOCATION:Hort Hausiraum / Kunstmobil
DESCRIPTION:Jugendtreff Betzigau\r\n\r\nIn den Treffs könnt ihr selbst entscheiden\, was ihr machen wollt. Musik hören\, kreativ werden\, klassische und moderne Gemeinschaftsspiele oder einfach nur chillen und mal nichts tun.\r\n\r\nBitte am hinteren Eingang Holz-/Glasgang Hort an der linken Klingel klingeln.\r\n\r\nWenn wir am Kunstmobil sind\, hängt dort ein Hinweisschild. 
URL;VALUE=URI:https://www.unser-ferienprogramm.de/betzigau/veranstaltung.php?id=290785
SUMMARY:Jugendtreff Betzigau
DTSTART;TZID=Europe/Berlin:20260123T140000
END:VEVENT


BEGIN:VEVENT
DTEND;TZID=Europe/Berlin:20260130T190000
UID:69e73e7f8807e10
DTSTAMP:20260421T110815
LOCATION:Hort Hausiraum / Kunstmobil
DESCRIPTION:Jugendtreff Betzigau\r\n\r\nIn den Treffs könnt ihr selbst entscheiden\, was ihr machen wollt. Musik hören\, kreativ werden\, klassische und moderne Gemeinschaftsspiele oder einfach nur chillen und mal nichts tun.\r\n\r\nBitte am hinteren Eingang Holz-/Glasgang Hort an der linken Klingel klingeln.\r\n\r\nWenn wir am Kunstmobil sind\, hängt dort ein Hinweisschild. 
URL;VALUE=URI:https://www.unser-ferienprogramm.de/betzigau/veranstaltung.php?id=290785
SUMMARY:Jugendtreff Betzigau
DTSTART;TZID=Europe/Berlin:20260130T140000
END:VEVENT


BEGIN:VEVENT
DTEND;TZID=Europe/Berlin:20260213T190000
UID:69e73e7f8808711
DTSTAMP:20260421T110815
LOCATION:Hort Hausiraum / Kunstmobil
DESCRIPTION:Jugendtreff Betzigau\r\n\r\nIn den Treffs könnt ihr selbst entscheiden\, was ihr machen wollt. Musik hören\, kreativ werden\, klassische und moderne Gemeinschaftsspiele oder einfach nur chillen und mal nichts tun.\r\n\r\nBitte am hinteren Eingang Holz-/Glasgang Hort an der linken Klingel klingeln.\r\n\r\nWenn wir am Kunstmobil sind\, hängt dort ein Hinweisschild. 
URL;VALUE=URI:https://www.unser-ferienprogramm.de/betzigau/veranstaltung.php?id=290785
SUMMARY:Jugendtreff Betzigau
DTSTART;TZID=Europe/Berlin:20260213T140000
END:VEVENT


BEGIN:VEVENT
DTEND;TZID=Europe/Berlin:20260306T190000
UID:69e73e7f8809112
DTSTAMP:20260421T110815
LOCATION:Hort Hausiraum / Kunstmobil
DESCRIPTION:Jugendtreff Betzigau\r\n\r\nIn den Treffs könnt ihr selbst entscheiden\, was ihr machen wollt. Musik hören\, kreativ werden\, klassische und moderne Gemeinschaftsspiele oder einfach nur chillen und mal nichts tun.\r\n\r\nBitte am hinteren Eingang Holz-/Glasgang Hort an der linken Klingel klingeln.\r\n\r\nWenn wir am Kunstmobil sind\, hängt dort ein Hinweisschild. 
URL;VALUE=URI:https://www.unser-ferienprogramm.de/betzigau/veranstaltung.php?id=290785
SUMMARY:Jugendtreff Betzigau
DTSTART;TZID=Europe/Berlin:20260306T140000
END:VEVENT


BEGIN:VEVENT
DTEND;TZID=Europe/Berlin:20260313T190000
UID:69e73e7f8809a13
DTSTAMP:20260421T110815
LOCATION:Hort Hausiraum / Kunstmobil
DESCRIPTION:Jugendtreff Betzigau\r\n\r\nIn den Treffs könnt ihr selbst entscheiden\, was ihr machen wollt. Musik hören\, kreativ werden\, klassische und moderne Gemeinschaftsspiele oder einfach nur chillen und mal nichts tun.\r\n\r\nBitte am hinteren Eingang Holz-/Glasgang Hort an der linken Klingel klingeln.\r\n\r\nWenn wir am Kunstmobil sind\, hängt dort ein Hinweisschild. 
URL;VALUE=URI:https://www.unser-ferienprogramm.de/betzigau/veranstaltung.php?id=290785
SUMMARY:Jugendtreff Betzigau
DTSTART;TZID=Europe/Berlin:20260313T140000
END:VEVENT


BEGIN:VEVENT
DTEND;TZID=Europe/Berlin:20260327T190000
UID:69e73e7f880a214
DTSTAMP:20260421T110815
LOCATION:Hort Hausiraum / Kunstmobil
DESCRIPTION:Jugendtreff Betzigau\r\n\r\nIn den Treffs könnt ihr selbst entscheiden\, was ihr machen wollt. Musik hören\, kreativ werden\, klassische und moderne Gemeinschaftsspiele oder einfach nur chillen und mal nichts tun.\r\n\r\nBitte am hinteren Eingang Holz-/Glasgang Hort an der linken Klingel klingeln.\r\n\r\nWenn wir am Kunstmobil sind\, hängt dort ein Hinweisschild. 
URL;VALUE=URI:https://www.unser-ferienprogramm.de/betzigau/veranstaltung.php?id=290785
SUMMARY:Jugendtreff Betzigau
DTSTART;TZID=Europe/Berlin:20260327T140000
END:VEVENT


BEGIN:VEVENT
DTEND;TZID=Europe/Berlin:20260417T190000
UID:69e73e7f880ab15
DTSTAMP:20260421T110815
LOCATION:Hort Hausiraum / Kunstmobil
DESCRIPTION:Jugendtreff Betzigau\r\n\r\nIn den Treffs könnt ihr selbst entscheiden\, was ihr machen wollt. Musik hören\, kreativ werden\, klassische und moderne Gemeinschaftsspiele oder einfach nur chillen und mal nichts tun.\r\n\r\nBitte am hinteren Eingang Holz-/Glasgang Hort an der linken Klingel klingeln.\r\n\r\nWenn wir am Kunstmobil sind\, hängt dort ein Hinweisschild. 
URL;VALUE=URI:https://www.unser-ferienprogramm.de/betzigau/veranstaltung.php?id=290785
SUMMARY:Jugendtreff Betzigau
DTSTART;TZID=Europe/Berlin:20260417T140000
END:VEVENT


BEGIN:VEVENT
DTEND;TZID=Europe/Berlin:20260424T190000
UID:69e73e7f880b416
DTSTAMP:20260421T110815
LOCATION:Hort Hausiraum / Kunstmobil
DESCRIPTION:Jugendtreff Betzigau\r\n\r\nIn den Treffs könnt ihr selbst entscheiden\, was ihr machen wollt. Musik hören\, kreativ werden\, klassische und moderne Gemeinschaftsspiele oder einfach nur chillen und mal nichts tun.\r\n\r\nBitte am hinteren Eingang Holz-/Glasgang Hort an der linken Klingel klingeln.\r\n\r\nWenn wir am Kunstmobil sind\, hängt dort ein Hinweisschild. 
URL;VALUE=URI:https://www.unser-ferienprogramm.de/betzigau/veranstaltung.php?id=290785
SUMMARY:Jugendtreff Betzigau
DTSTART;TZID=Europe/Berlin:20260424T140000
END:VEVENT


BEGIN:VEVENT
DTEND;TZID=Europe/Berlin:20260501T190000
UID:69e73e7f880bd17
DTSTAMP:20260421T110815
LOCATION:Hort Hausiraum / Kunstmobil
DESCRIPTION:Jugendtreff Betzigau\r\n\r\nIn den Treffs könnt ihr selbst entscheiden\, was ihr machen wollt. Musik hören\, kreativ werden\, klassische und moderne Gemeinschaftsspiele oder einfach nur chillen und mal nichts tun.\r\n\r\nBitte am hinteren Eingang Holz-/Glasgang Hort an der linken Klingel klingeln.\r\n\r\nWenn wir am Kunstmobil sind\, hängt dort ein Hinweisschild. 
URL;VALUE=URI:https://www.unser-ferienprogramm.de/betzigau/veranstaltung.php?id=290785
SUMMARY:Jugendtreff Betzigau
DTSTART;TZID=Europe/Berlin:20260501T140000
END:VEVENT


BEGIN:VEVENT
DTEND;TZID=Europe/Berlin:20260508T190000
UID:69e73e7f880c618
DTSTAMP:20260421T110815
LOCATION:Hort Hausiraum / Kunstmobil
DESCRIPTION:Jugendtreff Betzigau\r\n\r\nIn den Treffs könnt ihr selbst entscheiden\, was ihr machen wollt. Musik hören\, kreativ werden\, klassische und moderne Gemeinschaftsspiele oder einfach nur chillen und mal nichts tun.\r\n\r\nBitte am hinteren Eingang Holz-/Glasgang Hort an der linken Klingel klingeln.\r\n\r\nWenn wir am Kunstmobil sind\, hängt dort ein Hinweisschild. 
URL;VALUE=URI:https://www.unser-ferienprogramm.de/betzigau/veranstaltung.php?id=290785
SUMMARY:Jugendtreff Betzigau
DTSTART;TZID=Europe/Berlin:20260508T140000
END:VEVENT


BEGIN:VEVENT
DTEND;TZID=Europe/Berlin:20260522T190000
UID:69e73e7f880cf19
DTSTAMP:20260421T110815
LOCATION:Hort Hausiraum / Kunstmobil
DESCRIPTION:Jugendtreff Betzigau\r\n\r\nIn den Treffs könnt ihr selbst entscheiden\, was ihr machen wollt. Musik hören\, kreativ werden\, klassische und moderne Gemeinschaftsspiele oder einfach nur chillen und mal nichts tun.\r\n\r\nBitte am hinteren Eingang Holz-/Glasgang Hort an der linken Klingel klingeln.\r\n\r\nWenn wir am Kunstmobil sind\, hängt dort ein Hinweisschild. 
URL;VALUE=URI:https://www.unser-ferienprogramm.de/betzigau/veranstaltung.php?id=290785
SUMMARY:Jugendtreff Betzigau
DTSTART;TZID=Europe/Berlin:20260522T140000
END:VEVENT


BEGIN:VEVENT
DTEND;TZID=Europe/Berlin:20260612T190000
UID:69e73e7f880d820
DTSTAMP:20260421T110815
LOCATION:Hort Hausiraum / Kunstmobil
DESCRIPTION:Jugendtreff Betzigau\r\n\r\nIn den Treffs könnt ihr selbst entscheiden\, was ihr machen wollt. Musik hören\, kreativ werden\, klassische und moderne Gemeinschaftsspiele oder einfach nur chillen und mal nichts tun.\r\n\r\nBitte am hinteren Eingang Holz-/Glasgang Hort an der linken Klingel klingeln.\r\n\r\nWenn wir am Kunstmobil sind\, hängt dort ein Hinweisschild. 
URL;VALUE=URI:https://www.unser-ferienprogramm.de/betzigau/veranstaltung.php?id=290785
SUMMARY:Jugendtreff Betzigau
DTSTART;TZID=Europe/Berlin:20260612T140000
END:VEVENT


BEGIN:VEVENT
DTEND;TZID=Europe/Berlin:20260619T190000
UID:69e73e7f880e121
DTSTAMP:20260421T110815
LOCATION:Hort Hausiraum / Kunstmobil
DESCRIPTION:Jugendtreff Betzigau\r\n\r\nIn den Treffs könnt ihr selbst entscheiden\, was ihr machen wollt. Musik hören\, kreativ werden\, klassische und moderne Gemeinschaftsspiele oder einfach nur chillen und mal nichts tun.\r\n\r\nBitte am hinteren Eingang Holz-/Glasgang Hort an der linken Klingel klingeln.\r\n\r\nWenn wir am Kunstmobil sind\, hängt dort ein Hinweisschild. 
URL;VALUE=URI:https://www.unser-ferienprogramm.de/betzigau/veranstaltung.php?id=290785
SUMMARY:Jugendtreff Betzigau
DTSTART;TZID=Europe/Berlin:20260619T140000
END:VEVENT


BEGIN:VEVENT
DTEND;TZID=Europe/Berlin:20260626T190000
UID:69e73e7f880ea22
DTSTAMP:20260421T110815
LOCATION:Hort Hausiraum / Kunstmobil
DESCRIPTION:Jugendtreff Betzigau\r\n\r\nIn den Treffs könnt ihr selbst entscheiden\, was ihr machen wollt. Musik hören\, kreativ werden\, klassische und moderne Gemeinschaftsspiele oder einfach nur chillen und mal nichts tun.\r\n\r\nBitte am hinteren Eingang Holz-/Glasgang Hort an der linken Klingel klingeln.\r\n\r\nWenn wir am Kunstmobil sind\, hängt dort ein Hinweisschild. 
URL;VALUE=URI:https://www.unser-ferienprogramm.de/betzigau/veranstaltung.php?id=290785
SUMMARY:Jugendtreff Betzigau
DTSTART;TZID=Europe/Berlin:20260626T140000
END:VEVENT


BEGIN:VEVENT
DTEND;TZID=Europe/Berlin:20260703T190000
UID:69e73e7f880f323
DTSTAMP:20260421T110815
LOCATION:Hort Hausiraum / Kunstmobil
DESCRIPTION:Jugendtreff Betzigau\r\n\r\nIn den Treffs könnt ihr selbst entscheiden\, was ihr machen wollt. Musik hören\, kreativ werden\, klassische und moderne Gemeinschaftsspiele oder einfach nur chillen und mal nichts tun.\r\n\r\nBitte am hinteren Eingang Holz-/Glasgang Hort an der linken Klingel klingeln.\r\n\r\nWenn wir am Kunstmobil sind\, hängt dort ein Hinweisschild. 
URL;VALUE=URI:https://www.unser-ferienprogramm.de/betzigau/veranstaltung.php?id=290785
SUMMARY:Jugendtreff Betzigau
DTSTART;TZID=Europe/Berlin:20260703T140000
END:VEVENT


BEGIN:VEVENT
DTEND;TZID=Europe/Berlin:20260710T190000
UID:69e73e7f880fc24
DTSTAMP:20260421T110815
LOCATION:Hort Hausiraum / Kunstmobil
DESCRIPTION:Jugendtreff Betzigau\r\n\r\nIn den Treffs könnt ihr selbst entscheiden\, was ihr machen wollt. Musik hören\, kreativ werden\, klassische und moderne Gemeinschaftsspiele oder einfach nur chillen und mal nichts tun.\r\n\r\nBitte am hinteren Eingang Holz-/Glasgang Hort an der linken Klingel klingeln.\r\n\r\nWenn wir am Kunstmobil sind\, hängt dort ein Hinweisschild. 
URL;VALUE=URI:https://www.unser-ferienprogramm.de/betzigau/veranstaltung.php?id=290785
SUMMARY:Jugendtreff Betzigau
DTSTART;TZID=Europe/Berlin:20260710T140000
END:VEVENT


BEGIN:VEVENT
DTEND;TZID=Europe/Berlin:20260717T190000
UID:69e73e7f8810525
DTSTAMP:20260421T110815
LOCATION:Hort Hausiraum / Kunstmobil
DESCRIPTION:Jugendtreff Betzigau\r\n\r\nIn den Treffs könnt ihr selbst entscheiden\, was ihr machen wollt. Musik hören\, kreativ werden\, klassische und moderne Gemeinschaftsspiele oder einfach nur chillen und mal nichts tun.\r\n\r\nBitte am hinteren Eingang Holz-/Glasgang Hort an der linken Klingel klingeln.\r\n\r\nWenn wir am Kunstmobil sind\, hängt dort ein Hinweisschild. 
URL;VALUE=URI:https://www.unser-ferienprogramm.de/betzigau/veranstaltung.php?id=290785
SUMMARY:Jugendtreff Betzigau
DTSTART;TZID=Europe/Berlin:20260717T140000
END:VEVENT


BEGIN:VEVENT
DTEND;TZID=Europe/Berlin:20260724T190000
UID:69e73e7f8810e26
DTSTAMP:20260421T110815
LOCATION:Hort Hausiraum / Kunstmobil
DESCRIPTION:Jugendtreff Betzigau\r\n\r\nIn den Treffs könnt ihr selbst entscheiden\, was ihr machen wollt. Musik hören\, kreativ werden\, klassische und moderne Gemeinschaftsspiele oder einfach nur chillen und mal nichts tun.\r\n\r\nBitte am hinteren Eingang Holz-/Glasgang Hort an der linken Klingel klingeln.\r\n\r\nWenn wir am Kunstmobil sind\, hängt dort ein Hinweisschild. 
URL;VALUE=URI:https://www.unser-ferienprogramm.de/betzigau/veranstaltung.php?id=290785
SUMMARY:Jugendtreff Betzigau
DTSTART;TZID=Europe/Berlin:20260724T140000
END:VEVENT


BEGIN:VEVENT
DTEND;TZID=Europe/Berlin:20260731T190000
UID:69e73e7f8811727
DTSTAMP:20260421T110815
LOCATION:Hort Hausiraum / Kunstmobil
DESCRIPTION:Jugendtreff Betzigau\r\n\r\nIn den Treffs könnt ihr selbst entscheiden\, was ihr machen wollt. Musik hören\, kreativ werden\, klassische und moderne Gemeinschaftsspiele oder einfach nur chillen und mal nichts tun.\r\n\r\nBitte am hinteren Eingang Holz-/Glasgang Hort an der linken Klingel klingeln.\r\n\r\nWenn wir am Kunstmobil sind\, hängt dort ein Hinweisschild. 
URL;VALUE=URI:https://www.unser-ferienprogramm.de/betzigau/veranstaltung.php?id=290785
SUMMARY:Jugendtreff Betzigau
DTSTART;TZID=Europe/Berlin:20260731T140000
END:VEVENT

END:VCALENDAR
