BEGIN:VCALENDAR
VERSION:2.0
PRODID:-//hacksw/handcal//NONSGML v1.0//EN
CALSCALE:GREGORIAN
BEGIN:VTIMEZONE
TZID:Europe/Berlin
X-LIC-LOCATION:Europe/Berlin
BEGIN:DAYLIGHT
TZOFFSETFROM:+0100
TZOFFSETTO:+0200
TZNAME:CEST
DTSTART:19700329T020000
RRULE:FREQ=YEARLY;BYDAY=-1SU;BYMONTH=3
END:DAYLIGHT
BEGIN:STANDARD
TZOFFSETFROM:+0200
TZOFFSETTO:+0100
TZNAME:CET
DTSTART:19701025T030000
RRULE:FREQ=YEARLY;BYDAY=-1SU;BYMONTH=10
END:STANDARD
END:VTIMEZONE
BEGIN:VEVENT
DTEND;TZID=Europe/Berlin:20261104T153000
UID:69e64eaf76d18
DTSTAMP:20260420T180503
LOCATION:Hemau
DESCRIPTION:Seid ihr bereit für eine richtig coole Zeit in der Küche?\r\nDann kommt zu unserer Ferienaktion und werdet selbst zu kleinen Meisterköchen. Ob ihr lieber süße Leckereien zaubern oder coole herzhafte Gerichte kreieren wollt – bei uns ist für jeden Geschmack etwas dabei. Zusammen kneten\, rühren\, verzieren und probieren – hier wird gekocht und gebacken\, was das Zeug hält! Am Ende setzen wir uns alle zusammen und genießen in gemütlicher Runde\, was wir gemeinsam gekocht und gebacken haben.\r\n
URL;VALUE=URI:https://www.unser-ferienprogramm.de/beratzhausen/veranstaltung.php?id=298346
SUMMARY:Ran an den Herd! Kochen und backen mit Steffi und Simone
DTSTART;TZID=Europe/Berlin:20261104T090000
END:VEVENT

END:VCALENDAR
