BEGIN:VCALENDAR
VERSION:2.0
PRODID:-//hacksw/handcal//NONSGML v1.0//EN
CALSCALE:GREGORIAN
BEGIN:VTIMEZONE
TZID:Europe/Berlin
X-LIC-LOCATION:Europe/Berlin
BEGIN:DAYLIGHT
TZOFFSETFROM:+0100
TZOFFSETTO:+0200
TZNAME:CEST
DTSTART:19700329T020000
RRULE:FREQ=YEARLY;BYDAY=-1SU;BYMONTH=3
END:DAYLIGHT
BEGIN:STANDARD
TZOFFSETFROM:+0200
TZOFFSETTO:+0100
TZNAME:CET
DTSTART:19701025T030000
RRULE:FREQ=YEARLY;BYDAY=-1SU;BYMONTH=10
END:STANDARD
END:VTIMEZONE
BEGIN:VEVENT
DTEND;TZID=Europe/Berlin:20260821T150000
UID:69e64f075ef0c
DTSTAMP:20260420T180631
LOCATION:Mehrzweckhalle der Gottfried-Kölwel-Grundschule
DESCRIPTION:Kursinhalte: Akrobatik\, Jonglage\, Diabolo\, Flowersticks\, Einrad\, Clownerie\, Sketche\, Theater\, Tanz\, \r\nviel Spiel und Spaß u.v.m. \r\n\r\nNeben Spaß und Erlebnis werden den Kindern und Jugendlichen auf der Basis pädagogischer \r\nErkenntnisse sportmotorische Fähigkeiten vermittelt\, das Sozialverhalten geschult\, Selbstbewusstsein und Konzentration gefördert. Die Kinder lernen in der Gruppenarbeit mehr Verantwortungsbewusstsein und es entwickelt sich eine besondere Kreativität. Final wird eine Zirkusshow dargeboten\, die vor Publikum präsentiert wird. Jeder Einzelne erhält so auch seinen verdienten Applaus.
URL;VALUE=URI:https://www.unser-ferienprogramm.de/beratzhausen/veranstaltung.php?id=296454
SUMMARY:Mitmach-Zauber-Zirkuswoche 2026
DTSTART;TZID=Europe/Berlin:20260817T084500
END:VEVENT

END:VCALENDAR
