BEGIN:VCALENDAR
VERSION:2.0
PRODID:-//hacksw/handcal//NONSGML v1.0//EN
CALSCALE:GREGORIAN
BEGIN:VTIMEZONE
TZID:Europe/Berlin
X-LIC-LOCATION:Europe/Berlin
BEGIN:DAYLIGHT
TZOFFSETFROM:+0100
TZOFFSETTO:+0200
TZNAME:CEST
DTSTART:19700329T020000
RRULE:FREQ=YEARLY;BYDAY=-1SU;BYMONTH=3
END:DAYLIGHT
BEGIN:STANDARD
TZOFFSETFROM:+0200
TZOFFSETTO:+0100
TZNAME:CET
DTSTART:19701025T030000
RRULE:FREQ=YEARLY;BYDAY=-1SU;BYMONTH=10
END:STANDARD
END:VTIMEZONE
BEGIN:VEVENT
DTEND;TZID=Europe/Berlin:20270208T163000
UID:69e5e2ebcbca8
DTSTAMP:20260420T102515
LOCATION:Jugendbegegnungsstätte\, Stephanienstraße 14\, 76530 Baden-Baden
DESCRIPTION:Entdecken\, erleben\, zusammen wachsen – das ist unsere Erlebniswoche!\r\n\r\nFerienzeit heißt Abenteuerzeit! In dieser besonderen Woche verwandelt sich der Jugendtreff in einen Ort voller Spiel\, Bewegung und Kreativität. Jeden Tag wartet ein neues Highlight: Es wird gebastelt\, gelacht\, geforscht und ausprobiert!\r\n\r\nUnser pädagogisches Team der Kinder- und Jugendarbeit gestaltet ein abwechslungsreiches Programm\, das keine Langeweile zulässt – ob beim Sport\, draußen Toben\, kreativen Gestalten oder beim gemeinsamen Mittagessen.\r\nIm Mittelpunkt steht nicht nur das Mitmachen\, sondern vor allem das Miteinander. Wir fördern Teamgeist\, Rücksichtnahme und ermutigen die Kinder\, eigene Ideen einzubringen.\r\n\r\nDurch klare Tagesstrukturen\, vielfältige Aktivitäten und ausreichend Zeit zum freien Spielen entsteht eine Woche voller Freude\, Entfaltung und gemeinsamer Erlebnisse.\r\nDie Erlebniswoche stärkt auf spielerische Weise Selbstbewusstsein\, Eigenständigkeit und soziale Kompetenzen – und schenkt unvergessliche Ferientage voller Spaß\, Bewegung und Gemeinschaft.\r\n\r\nHinweis:\r\nWährend der Erlebniswoche ist der Jugendtreff ausschließlich für Ferienkinder geöffnet.
URL;VALUE=URI:https://www.unser-ferienprogramm.de/baden-baden/veranstaltung.php?id=299384
SUMMARY:Faschingswoche in der Jube
DTSTART;TZID=Europe/Berlin:20270208T083000
END:VEVENT


BEGIN:VEVENT
DTEND;TZID=Europe/Berlin:20270209T163000
UID:69e5e2ebcbcee1
DTSTAMP:20260420T102515
LOCATION:Jugendbegegnungsstätte\, Stephanienstraße 14\, 76530 Baden-Baden
DESCRIPTION:Entdecken\, erleben\, zusammen wachsen – das ist unsere Erlebniswoche!\r\n\r\nFerienzeit heißt Abenteuerzeit! In dieser besonderen Woche verwandelt sich der Jugendtreff in einen Ort voller Spiel\, Bewegung und Kreativität. Jeden Tag wartet ein neues Highlight: Es wird gebastelt\, gelacht\, geforscht und ausprobiert!\r\n\r\nUnser pädagogisches Team der Kinder- und Jugendarbeit gestaltet ein abwechslungsreiches Programm\, das keine Langeweile zulässt – ob beim Sport\, draußen Toben\, kreativen Gestalten oder beim gemeinsamen Mittagessen.\r\nIm Mittelpunkt steht nicht nur das Mitmachen\, sondern vor allem das Miteinander. Wir fördern Teamgeist\, Rücksichtnahme und ermutigen die Kinder\, eigene Ideen einzubringen.\r\n\r\nDurch klare Tagesstrukturen\, vielfältige Aktivitäten und ausreichend Zeit zum freien Spielen entsteht eine Woche voller Freude\, Entfaltung und gemeinsamer Erlebnisse.\r\nDie Erlebniswoche stärkt auf spielerische Weise Selbstbewusstsein\, Eigenständigkeit und soziale Kompetenzen – und schenkt unvergessliche Ferientage voller Spaß\, Bewegung und Gemeinschaft.\r\n\r\nHinweis:\r\nWährend der Erlebniswoche ist der Jugendtreff ausschließlich für Ferienkinder geöffnet.
URL;VALUE=URI:https://www.unser-ferienprogramm.de/baden-baden/veranstaltung.php?id=299384
SUMMARY:Faschingswoche in der Jube
DTSTART;TZID=Europe/Berlin:20270209T083000
END:VEVENT


BEGIN:VEVENT
DTEND;TZID=Europe/Berlin:20270210T163000
UID:69e5e2ebcbd032
DTSTAMP:20260420T102515
LOCATION:Jugendbegegnungsstätte\, Stephanienstraße 14\, 76530 Baden-Baden
DESCRIPTION:Entdecken\, erleben\, zusammen wachsen – das ist unsere Erlebniswoche!\r\n\r\nFerienzeit heißt Abenteuerzeit! In dieser besonderen Woche verwandelt sich der Jugendtreff in einen Ort voller Spiel\, Bewegung und Kreativität. Jeden Tag wartet ein neues Highlight: Es wird gebastelt\, gelacht\, geforscht und ausprobiert!\r\n\r\nUnser pädagogisches Team der Kinder- und Jugendarbeit gestaltet ein abwechslungsreiches Programm\, das keine Langeweile zulässt – ob beim Sport\, draußen Toben\, kreativen Gestalten oder beim gemeinsamen Mittagessen.\r\nIm Mittelpunkt steht nicht nur das Mitmachen\, sondern vor allem das Miteinander. Wir fördern Teamgeist\, Rücksichtnahme und ermutigen die Kinder\, eigene Ideen einzubringen.\r\n\r\nDurch klare Tagesstrukturen\, vielfältige Aktivitäten und ausreichend Zeit zum freien Spielen entsteht eine Woche voller Freude\, Entfaltung und gemeinsamer Erlebnisse.\r\nDie Erlebniswoche stärkt auf spielerische Weise Selbstbewusstsein\, Eigenständigkeit und soziale Kompetenzen – und schenkt unvergessliche Ferientage voller Spaß\, Bewegung und Gemeinschaft.\r\n\r\nHinweis:\r\nWährend der Erlebniswoche ist der Jugendtreff ausschließlich für Ferienkinder geöffnet.
URL;VALUE=URI:https://www.unser-ferienprogramm.de/baden-baden/veranstaltung.php?id=299384
SUMMARY:Faschingswoche in der Jube
DTSTART;TZID=Europe/Berlin:20270210T083000
END:VEVENT


BEGIN:VEVENT
DTEND;TZID=Europe/Berlin:20270211T163000
UID:69e5e2ebcbd133
DTSTAMP:20260420T102515
LOCATION:Jugendbegegnungsstätte\, Stephanienstraße 14\, 76530 Baden-Baden
DESCRIPTION:Entdecken\, erleben\, zusammen wachsen – das ist unsere Erlebniswoche!\r\n\r\nFerienzeit heißt Abenteuerzeit! In dieser besonderen Woche verwandelt sich der Jugendtreff in einen Ort voller Spiel\, Bewegung und Kreativität. Jeden Tag wartet ein neues Highlight: Es wird gebastelt\, gelacht\, geforscht und ausprobiert!\r\n\r\nUnser pädagogisches Team der Kinder- und Jugendarbeit gestaltet ein abwechslungsreiches Programm\, das keine Langeweile zulässt – ob beim Sport\, draußen Toben\, kreativen Gestalten oder beim gemeinsamen Mittagessen.\r\nIm Mittelpunkt steht nicht nur das Mitmachen\, sondern vor allem das Miteinander. Wir fördern Teamgeist\, Rücksichtnahme und ermutigen die Kinder\, eigene Ideen einzubringen.\r\n\r\nDurch klare Tagesstrukturen\, vielfältige Aktivitäten und ausreichend Zeit zum freien Spielen entsteht eine Woche voller Freude\, Entfaltung und gemeinsamer Erlebnisse.\r\nDie Erlebniswoche stärkt auf spielerische Weise Selbstbewusstsein\, Eigenständigkeit und soziale Kompetenzen – und schenkt unvergessliche Ferientage voller Spaß\, Bewegung und Gemeinschaft.\r\n\r\nHinweis:\r\nWährend der Erlebniswoche ist der Jugendtreff ausschließlich für Ferienkinder geöffnet.
URL;VALUE=URI:https://www.unser-ferienprogramm.de/baden-baden/veranstaltung.php?id=299384
SUMMARY:Faschingswoche in der Jube
DTSTART;TZID=Europe/Berlin:20270211T083000
END:VEVENT


BEGIN:VEVENT
DTEND;TZID=Europe/Berlin:20270212T163000
UID:69e5e2ebcbd214
DTSTAMP:20260420T102515
LOCATION:Jugendbegegnungsstätte\, Stephanienstraße 14\, 76530 Baden-Baden
DESCRIPTION:Entdecken\, erleben\, zusammen wachsen – das ist unsere Erlebniswoche!\r\n\r\nFerienzeit heißt Abenteuerzeit! In dieser besonderen Woche verwandelt sich der Jugendtreff in einen Ort voller Spiel\, Bewegung und Kreativität. Jeden Tag wartet ein neues Highlight: Es wird gebastelt\, gelacht\, geforscht und ausprobiert!\r\n\r\nUnser pädagogisches Team der Kinder- und Jugendarbeit gestaltet ein abwechslungsreiches Programm\, das keine Langeweile zulässt – ob beim Sport\, draußen Toben\, kreativen Gestalten oder beim gemeinsamen Mittagessen.\r\nIm Mittelpunkt steht nicht nur das Mitmachen\, sondern vor allem das Miteinander. Wir fördern Teamgeist\, Rücksichtnahme und ermutigen die Kinder\, eigene Ideen einzubringen.\r\n\r\nDurch klare Tagesstrukturen\, vielfältige Aktivitäten und ausreichend Zeit zum freien Spielen entsteht eine Woche voller Freude\, Entfaltung und gemeinsamer Erlebnisse.\r\nDie Erlebniswoche stärkt auf spielerische Weise Selbstbewusstsein\, Eigenständigkeit und soziale Kompetenzen – und schenkt unvergessliche Ferientage voller Spaß\, Bewegung und Gemeinschaft.\r\n\r\nHinweis:\r\nWährend der Erlebniswoche ist der Jugendtreff ausschließlich für Ferienkinder geöffnet.
URL;VALUE=URI:https://www.unser-ferienprogramm.de/baden-baden/veranstaltung.php?id=299384
SUMMARY:Faschingswoche in der Jube
DTSTART;TZID=Europe/Berlin:20270212T083000
END:VEVENT

END:VCALENDAR
