BEGIN:VCALENDAR
VERSION:2.0
PRODID:-//hacksw/handcal//NONSGML v1.0//EN
CALSCALE:GREGORIAN
BEGIN:VTIMEZONE
TZID:Europe/Berlin
X-LIC-LOCATION:Europe/Berlin
BEGIN:DAYLIGHT
TZOFFSETFROM:+0100
TZOFFSETTO:+0200
TZNAME:CEST
DTSTART:19700329T020000
RRULE:FREQ=YEARLY;BYDAY=-1SU;BYMONTH=3
END:DAYLIGHT
BEGIN:STANDARD
TZOFFSETFROM:+0200
TZOFFSETTO:+0100
TZNAME:CET
DTSTART:19701025T030000
RRULE:FREQ=YEARLY;BYDAY=-1SU;BYMONTH=10
END:STANDARD
END:VTIMEZONE
BEGIN:VEVENT
DTEND;TZID=Europe/Berlin:20210812T140000
UID:69e76c70918bc
DTSTAMP:20260421T142416
LOCATION:Bad Säckingen
DESCRIPTION:Die blauen Helfer\r\nQuizfrage: Welche Farbe hat das Rote Kreuz? Okay\, das war einfach. Aber: Welche Farbe hat das THW und wofür stehen die drei Buchstaben und was machen die überhaupt? Auf jeden Fall nur Gutes. Alle Fragen werden vor Ort beantwortet – von einem echten THWler\r\nBitte als Vermerk jedesmal vermerken: Mund-Nasen-Schutz mitbringen sowie eine Trinkflasche und Wechselklamotten. Bei heißen Tagen wird auch mit Wasser gespielt und da wären Wechselklamotten sehr praktisch \r\n
URL;VALUE=URI:https://www.unser-ferienprogramm.de/bad-saeckingen/veranstaltung.php?id=80237
SUMMARY:THW 2
DTSTART;TZID=Europe/Berlin:20210812T080000
END:VEVENT

END:VCALENDAR
