BEGIN:VCALENDAR
VERSION:2.0
PRODID:-//hacksw/handcal//NONSGML v1.0//EN
CALSCALE:GREGORIAN
BEGIN:VTIMEZONE
TZID:Europe/Berlin
X-LIC-LOCATION:Europe/Berlin
BEGIN:DAYLIGHT
TZOFFSETFROM:+0100
TZOFFSETTO:+0200
TZNAME:CEST
DTSTART:19700329T020000
RRULE:FREQ=YEARLY;BYDAY=-1SU;BYMONTH=3
END:DAYLIGHT
BEGIN:STANDARD
TZOFFSETFROM:+0200
TZOFFSETTO:+0100
TZNAME:CET
DTSTART:19701025T030000
RRULE:FREQ=YEARLY;BYDAY=-1SU;BYMONTH=10
END:STANDARD
END:VTIMEZONE
BEGIN:VEVENT
DTEND;TZID=Europe/Berlin:20210806T160000
UID:69e76c0f1fcc4
DTSTAMP:20260421T142239
LOCATION:Bad Säckingen
DESCRIPTION:Die Kampfkunst „Karate“ hat ihren Ursprung in Japan\, genauer gesagt auf der Insel Okinawa. Der Name Karate\, der sich aus "Kara" (= leer) und "te" (= Hand)\, zusammensetzt\, besagt schon\, dass es sich um eine waffenlose Kampfkunst handelt. Das moderne Karate\, wie wir es heute kennen entstand im späten 19. Jahrhundert und verbreitete sich von Japan aus in die gesamte Welt.\r\n\r\nDer ursprüngliche Sinn des Karate ist die natürlich die Selbstverteidigung\, die es ermöglicht\, sich auch gegen körperlich überlegene Angreifer zu behaupten. Karate ist aber auch einfach zur Verbesserung der körperlichen Fitness sehr gut geeignet. Ausdauer und Muskulatur werden gestärkt. Aber ebenso verbessern sich Koordinations-\, Reaktions- und Konzentrationsfähigkeit. Das heutige Karatetraining besteht aus 4 Säulen: Kihon (Grundschultechniken)\, Kata (festgelegter Bewegungsablauf)\, Kumite (Kampf) und Selbstverteidigung.\r\n- \r\nAngebot der Karateschule Bad Säckingen e.V.                                   \r\nfür Kinder  in Bad Säckingen\r\nWas muss ich alles mitbringen ?\r\n   Normale Sportkleidung\r\n   Trinken\r\n    Stift\r\n
URL;VALUE=URI:https://www.unser-ferienprogramm.de/bad-saeckingen/veranstaltung.php?id=79488
SUMMARY:Karate für Anfängerkids  
DTSTART;TZID=Europe/Berlin:20210806T140000
END:VEVENT

END:VCALENDAR
