BEGIN:VCALENDAR
VERSION:2.0
PRODID:-//hacksw/handcal//NONSGML v1.0//EN
CALSCALE:GREGORIAN
BEGIN:VTIMEZONE
TZID:Europe/Berlin
X-LIC-LOCATION:Europe/Berlin
BEGIN:DAYLIGHT
TZOFFSETFROM:+0100
TZOFFSETTO:+0200
TZNAME:CEST
DTSTART:19700329T020000
RRULE:FREQ=YEARLY;BYDAY=-1SU;BYMONTH=3
END:DAYLIGHT
BEGIN:STANDARD
TZOFFSETFROM:+0200
TZOFFSETTO:+0100
TZNAME:CET
DTSTART:19701025T030000
RRULE:FREQ=YEARLY;BYDAY=-1SU;BYMONTH=10
END:STANDARD
END:VTIMEZONE
BEGIN:VEVENT
DTEND;TZID=Europe/Berlin:20210730T153000
UID:69e780d6871dc
DTSTAMP:20260421T155118
LOCATION:Bad Säckingen
DESCRIPTION:Anmeldung erforderlich
URL;VALUE=URI:https://www.unser-ferienprogramm.de/bad-saeckingen/veranstaltung.php?id=34419
SUMMARY:Pizzabacken 1
DTSTART;TZID=Europe/Berlin:20210730T140000
END:VEVENT

END:VCALENDAR
