BEGIN:VCALENDAR
VERSION:2.0
PRODID:-//hacksw/handcal//NONSGML v1.0//EN
CALSCALE:GREGORIAN
BEGIN:VTIMEZONE
TZID:Europe/Berlin
X-LIC-LOCATION:Europe/Berlin
BEGIN:DAYLIGHT
TZOFFSETFROM:+0100
TZOFFSETTO:+0200
TZNAME:CEST
DTSTART:19700329T020000
RRULE:FREQ=YEARLY;BYDAY=-1SU;BYMONTH=3
END:DAYLIGHT
BEGIN:STANDARD
TZOFFSETFROM:+0200
TZOFFSETTO:+0100
TZNAME:CET
DTSTART:19701025T030000
RRULE:FREQ=YEARLY;BYDAY=-1SU;BYMONTH=10
END:STANDARD
END:VTIMEZONE
BEGIN:VEVENT
DTEND;TZID=Europe/Berlin:20260522T220000
UID:69e5e34087405
DTSTAMP:20260420T102640
LOCATION:Trinkkuranlage Bad Nauheim
DESCRIPTION:­Auch dieses Jahr findet wieder unser beliebtes Bad Nauheim Spielt! statt. Es gibt eine riesige kostenlose Spieleausleihe von mehreren Hundert Spielen und fachkundiges Personal\, das gerne bei der Auswahl und den Regeln hilft. Von Brettspielen bis hin zu TableTop-Spielen kann hier alles ausprobiert werden. Für die kleineren wird es eine Rallye mit tollen Preisen geben\, sowie eine große Freispielfläche mit tollen Bewegungsspielen. Wie jedes Jahr zählt auch die Tombola zu den beliebten Attraktionen der Veranstaltung. Verschiedene Spieleverlage sind Vorort und präsentieren ihre neusten Entwicklungen. \r\nFerner können unsere Escape Rooms kostenlos bespielt werden. Wir bitten dazu jedoch vorher um eine Anmeldung für den jeweiligen Zeitslot. Die Slots werden ebenfalls auf unserer Website buchbar sein.\r\n\r\nFestgelegte Programmpunkte:\r\nFreitagabend startet die Musikschule Bad Nauheim gGmbh mit einem Bandworkshop. \r\nSamstagabend wird voraussichtlich ein PubQuiz stattfinden.\r\nSonntag können Interessierte bei einer Istanbul Meisterschaft mitspielen. \r\n\r\nBad Nauheim Spielt! ist und bleibt ein einzigartiges Fest für die ganze Familie!\r\nSpeisen und Getränke sind Vorort erwerbbar. \r\n­­­Ansonsten ist keine Anmeldung notwendig. Einfach vorbeikommen und einen tollen Tag verbringen lautet die Devise!
URL;VALUE=URI:https://www.unser-ferienprogramm.de/bad-nauheim/veranstaltung.php?id=312065
SUMMARY:Bad Nauheim Spielt 2026! 
DTSTART;TZID=Europe/Berlin:20260522T180000
END:VEVENT


BEGIN:VEVENT
DTEND;TZID=Europe/Berlin:20260523T220000
UID:69e5e340874501
DTSTAMP:20260420T102640
LOCATION:Trinkkuranlage Bad Nauheim
DESCRIPTION:­Auch dieses Jahr findet wieder unser beliebtes Bad Nauheim Spielt! statt. Es gibt eine riesige kostenlose Spieleausleihe von mehreren Hundert Spielen und fachkundiges Personal\, das gerne bei der Auswahl und den Regeln hilft. Von Brettspielen bis hin zu TableTop-Spielen kann hier alles ausprobiert werden. Für die kleineren wird es eine Rallye mit tollen Preisen geben\, sowie eine große Freispielfläche mit tollen Bewegungsspielen. Wie jedes Jahr zählt auch die Tombola zu den beliebten Attraktionen der Veranstaltung. Verschiedene Spieleverlage sind Vorort und präsentieren ihre neusten Entwicklungen. \r\nFerner können unsere Escape Rooms kostenlos bespielt werden. Wir bitten dazu jedoch vorher um eine Anmeldung für den jeweiligen Zeitslot. Die Slots werden ebenfalls auf unserer Website buchbar sein.\r\n\r\nFestgelegte Programmpunkte:\r\nFreitagabend startet die Musikschule Bad Nauheim gGmbh mit einem Bandworkshop. \r\nSamstagabend wird voraussichtlich ein PubQuiz stattfinden.\r\nSonntag können Interessierte bei einer Istanbul Meisterschaft mitspielen. \r\n\r\nBad Nauheim Spielt! ist und bleibt ein einzigartiges Fest für die ganze Familie!\r\nSpeisen und Getränke sind Vorort erwerbbar. \r\n­­­Ansonsten ist keine Anmeldung notwendig. Einfach vorbeikommen und einen tollen Tag verbringen lautet die Devise!
URL;VALUE=URI:https://www.unser-ferienprogramm.de/bad-nauheim/veranstaltung.php?id=312065
SUMMARY:Bad Nauheim Spielt 2026! 
DTSTART;TZID=Europe/Berlin:20260523T110000
END:VEVENT


BEGIN:VEVENT
DTEND;TZID=Europe/Berlin:20260524T220000
UID:69e5e340874622
DTSTAMP:20260420T102640
LOCATION:Trinkkuranlage Bad Nauheim
DESCRIPTION:­Auch dieses Jahr findet wieder unser beliebtes Bad Nauheim Spielt! statt. Es gibt eine riesige kostenlose Spieleausleihe von mehreren Hundert Spielen und fachkundiges Personal\, das gerne bei der Auswahl und den Regeln hilft. Von Brettspielen bis hin zu TableTop-Spielen kann hier alles ausprobiert werden. Für die kleineren wird es eine Rallye mit tollen Preisen geben\, sowie eine große Freispielfläche mit tollen Bewegungsspielen. Wie jedes Jahr zählt auch die Tombola zu den beliebten Attraktionen der Veranstaltung. Verschiedene Spieleverlage sind Vorort und präsentieren ihre neusten Entwicklungen. \r\nFerner können unsere Escape Rooms kostenlos bespielt werden. Wir bitten dazu jedoch vorher um eine Anmeldung für den jeweiligen Zeitslot. Die Slots werden ebenfalls auf unserer Website buchbar sein.\r\n\r\nFestgelegte Programmpunkte:\r\nFreitagabend startet die Musikschule Bad Nauheim gGmbh mit einem Bandworkshop. \r\nSamstagabend wird voraussichtlich ein PubQuiz stattfinden.\r\nSonntag können Interessierte bei einer Istanbul Meisterschaft mitspielen. \r\n\r\nBad Nauheim Spielt! ist und bleibt ein einzigartiges Fest für die ganze Familie!\r\nSpeisen und Getränke sind Vorort erwerbbar. \r\n­­­Ansonsten ist keine Anmeldung notwendig. Einfach vorbeikommen und einen tollen Tag verbringen lautet die Devise!
URL;VALUE=URI:https://www.unser-ferienprogramm.de/bad-nauheim/veranstaltung.php?id=312065
SUMMARY:Bad Nauheim Spielt 2026! 
DTSTART;TZID=Europe/Berlin:20260524T110000
END:VEVENT


BEGIN:VEVENT
DTEND;TZID=Europe/Berlin:20260525T180000
UID:69e5e340874713
DTSTAMP:20260420T102640
LOCATION:Trinkkuranlage Bad Nauheim
DESCRIPTION:­Auch dieses Jahr findet wieder unser beliebtes Bad Nauheim Spielt! statt. Es gibt eine riesige kostenlose Spieleausleihe von mehreren Hundert Spielen und fachkundiges Personal\, das gerne bei der Auswahl und den Regeln hilft. Von Brettspielen bis hin zu TableTop-Spielen kann hier alles ausprobiert werden. Für die kleineren wird es eine Rallye mit tollen Preisen geben\, sowie eine große Freispielfläche mit tollen Bewegungsspielen. Wie jedes Jahr zählt auch die Tombola zu den beliebten Attraktionen der Veranstaltung. Verschiedene Spieleverlage sind Vorort und präsentieren ihre neusten Entwicklungen. \r\nFerner können unsere Escape Rooms kostenlos bespielt werden. Wir bitten dazu jedoch vorher um eine Anmeldung für den jeweiligen Zeitslot. Die Slots werden ebenfalls auf unserer Website buchbar sein.\r\n\r\nFestgelegte Programmpunkte:\r\nFreitagabend startet die Musikschule Bad Nauheim gGmbh mit einem Bandworkshop. \r\nSamstagabend wird voraussichtlich ein PubQuiz stattfinden.\r\nSonntag können Interessierte bei einer Istanbul Meisterschaft mitspielen. \r\n\r\nBad Nauheim Spielt! ist und bleibt ein einzigartiges Fest für die ganze Familie!\r\nSpeisen und Getränke sind Vorort erwerbbar. \r\n­­­Ansonsten ist keine Anmeldung notwendig. Einfach vorbeikommen und einen tollen Tag verbringen lautet die Devise!
URL;VALUE=URI:https://www.unser-ferienprogramm.de/bad-nauheim/veranstaltung.php?id=312065
SUMMARY:Bad Nauheim Spielt 2026! 
DTSTART;TZID=Europe/Berlin:20260525T110000
END:VEVENT

END:VCALENDAR
