BEGIN:VCALENDAR
VERSION:2.0
PRODID:-//hacksw/handcal//NONSGML v1.0//EN
CALSCALE:GREGORIAN
BEGIN:VTIMEZONE
TZID:Europe/Berlin
X-LIC-LOCATION:Europe/Berlin
BEGIN:DAYLIGHT
TZOFFSETFROM:+0100
TZOFFSETTO:+0200
TZNAME:CEST
DTSTART:19700329T020000
RRULE:FREQ=YEARLY;BYDAY=-1SU;BYMONTH=3
END:DAYLIGHT
BEGIN:STANDARD
TZOFFSETFROM:+0200
TZOFFSETTO:+0100
TZNAME:CET
DTSTART:19701025T030000
RRULE:FREQ=YEARLY;BYDAY=-1SU;BYMONTH=10
END:STANDARD
END:VTIMEZONE
BEGIN:VEVENT
DTEND;TZID=Europe/Berlin:20260620T235900
UID:69e5e32115ee4
DTSTAMP:20260420T102609
LOCATION:Usa Wellenbad (In der Au 2\, 61231 Bad Nauheim)
DESCRIPTION:Auch dieses Jahr findet wieder das beliebte Schwimmbadfestival Sparkling Vibes statt! Mit verschiedensten Aktionen und Spielmöglichkeiten wird das beliebte Sparkling Vibes auch 2026 wieder ein tolles Event für alle Altersgruppen! Und psst.... Passend zur WM wird auch hier einiges passieren. Mehr Infos folgen über Instagram unter @sparklingvibes\r\n\r\nAuch die Ticketpreise werden noch bekanntgegeben.
URL;VALUE=URI:https://www.unser-ferienprogramm.de/bad-nauheim/veranstaltung.php?id=312059
SUMMARY:Sparkling Vibes 2026
DTSTART;TZID=Europe/Berlin:20260620T120000
END:VEVENT

END:VCALENDAR
