BEGIN:VCALENDAR
VERSION:2.0
PRODID:-//hacksw/handcal//NONSGML v1.0//EN
CALSCALE:GREGORIAN
BEGIN:VTIMEZONE
TZID:Europe/Berlin
X-LIC-LOCATION:Europe/Berlin
BEGIN:DAYLIGHT
TZOFFSETFROM:+0100
TZOFFSETTO:+0200
TZNAME:CEST
DTSTART:19700329T020000
RRULE:FREQ=YEARLY;BYDAY=-1SU;BYMONTH=3
END:DAYLIGHT
BEGIN:STANDARD
TZOFFSETFROM:+0200
TZOFFSETTO:+0100
TZNAME:CET
DTSTART:19701025T030000
RRULE:FREQ=YEARLY;BYDAY=-1SU;BYMONTH=10
END:STANDARD
END:VTIMEZONE
BEGIN:VEVENT
DTEND;TZID=Europe/Berlin:20260411T235900
UID:69e60ed95c9d6
DTSTAMP:20260420T133241
LOCATION:Kinder- und Jugendhaus Bad Nauheim
DESCRIPTION:Spielen\, knobeln und gemeinsam Neues entdecken: Ob Familien\, Gelegenheitsspieler oder erfahrene Strategen: Die Veranstaltung bietet für jedes Niveau den passenden Einstieg. Von leicht zugänglichen Kinderspielen bis hin zu anspruchsvollen Expertentiteln und komplexen Eurogames steht eine große Auswahl bereit\, die direkt vor Ort ausprobiert werden kann.\r\nIm Mittelpunkt stehen in diesem Jahr vier besondere Spieletitel: The Druids of Edora\, Morty Sorty Magic Shop\, Tea Garden und Wispwood. Diese Fokustitel laden dazu ein\, sich intensiver mit neuen Spielideen zu beschäftigen\, Regeln gemeinsam zu entdecken und Strategien auszuprobieren.\r\n\r\nEin weiteres Highlight erwartet die Besucherinnen und Besucher mit den Escape Rooms des Jugendhauses. Diese sind am Veranstaltungstag geöffnet und können bereits im Vorfeld über die Buchungsplattformreserviert werden.\r\nDie SalinenCon steht für Begegnung\, Austausch und die Freude am gemeinsamen Spiel. Wer Lust hat\, neue Spiele kennenzulernen oder einfach einen abwechslungsreichen Tag in entspannter Umgebung zu verbringen\, ist hier genau richtig.
URL;VALUE=URI:https://www.unser-ferienprogramm.de/bad-nauheim/veranstaltung.php?id=312055
SUMMARY:SalinenCon 2026
DTSTART;TZID=Europe/Berlin:20260411T110000
END:VEVENT

END:VCALENDAR
