BEGIN:VCALENDAR
VERSION:2.0
PRODID:-//hacksw/handcal//NONSGML v1.0//EN
CALSCALE:GREGORIAN
BEGIN:VTIMEZONE
TZID:Europe/Berlin
X-LIC-LOCATION:Europe/Berlin
BEGIN:DAYLIGHT
TZOFFSETFROM:+0100
TZOFFSETTO:+0200
TZNAME:CEST
DTSTART:19700329T020000
RRULE:FREQ=YEARLY;BYDAY=-1SU;BYMONTH=3
END:DAYLIGHT
BEGIN:STANDARD
TZOFFSETFROM:+0200
TZOFFSETTO:+0100
TZNAME:CET
DTSTART:19701025T030000
RRULE:FREQ=YEARLY;BYDAY=-1SU;BYMONTH=10
END:STANDARD
END:VTIMEZONE
BEGIN:VEVENT
DTEND;TZID=Europe/Berlin:20260529T170000
UID:69eb2831c5aca
DTSTAMP:20260424T102209
LOCATION:Kinder- und Jugendhaus Alte Feuerwache (Johannisstraße 5\, 61231 Bad Nauheim)
DESCRIPTION:In diesem Kurs wird eifrig getöpfert und gelernt mit dem Material umzugehen.\r\nWenn ihr schon immer einmal eure eigenen Dinge aus Ton herstellen wolltet\, seid ihr hier genau richtig. Ob eine schöne Tasse\, ein Napf für euer Haustier oder eine Figur. Eurer Fantasie sind keine Grenzen gesetzt. Die getöpferten Schätze werden im Anschluss bemalt und im Keramikofen gebrannt.\r\nEgal ob ihr bereits Erfahrung beim Töpfern habt oder nicht - alle sind herzlich willkommen! \r\n\r\nHinweis: Damit die getöpferten Sachen lange halten werden sie von uns in der darauffolgenden Woche zweimal im Töpferofen gebrannt und glasiert. Ihr könnt sie daher leider erst ca. drei Wochen nach dem Kurs abholen. Dafür habt ihr aber umso länger etwas von euren getöpferten Schätzen. Bitte zieht euch unempfindliche Sachen an\, die auch dreckig werden dürfen!\r\n\r\nEine Stornierung ist bis zu 8 Tage vor Kursbeginn kostenfrei möglich! 
URL;VALUE=URI:https://www.unser-ferienprogramm.de/bad-nauheim/veranstaltung.php?id=311879
SUMMARY:Töpferkurs für Kids
DTSTART;TZID=Europe/Berlin:20260529T150000
END:VEVENT


BEGIN:VEVENT
DTEND;TZID=Europe/Berlin:20260530T170000
UID:69eb2831c5afe1
DTSTAMP:20260424T102209
LOCATION:Kinder- und Jugendhaus Alte Feuerwache (Johannisstraße 5\, 61231 Bad Nauheim)
DESCRIPTION:In diesem Kurs wird eifrig getöpfert und gelernt mit dem Material umzugehen.\r\nWenn ihr schon immer einmal eure eigenen Dinge aus Ton herstellen wolltet\, seid ihr hier genau richtig. Ob eine schöne Tasse\, ein Napf für euer Haustier oder eine Figur. Eurer Fantasie sind keine Grenzen gesetzt. Die getöpferten Schätze werden im Anschluss bemalt und im Keramikofen gebrannt.\r\nEgal ob ihr bereits Erfahrung beim Töpfern habt oder nicht - alle sind herzlich willkommen! \r\n\r\nHinweis: Damit die getöpferten Sachen lange halten werden sie von uns in der darauffolgenden Woche zweimal im Töpferofen gebrannt und glasiert. Ihr könnt sie daher leider erst ca. drei Wochen nach dem Kurs abholen. Dafür habt ihr aber umso länger etwas von euren getöpferten Schätzen. Bitte zieht euch unempfindliche Sachen an\, die auch dreckig werden dürfen!\r\n\r\nEine Stornierung ist bis zu 8 Tage vor Kursbeginn kostenfrei möglich! 
URL;VALUE=URI:https://www.unser-ferienprogramm.de/bad-nauheim/veranstaltung.php?id=311879
SUMMARY:Töpferkurs für Kids
DTSTART;TZID=Europe/Berlin:20260530T150000
END:VEVENT


BEGIN:VEVENT
DTEND;TZID=Europe/Berlin:20260531T170000
UID:69eb2831c5b082
DTSTAMP:20260424T102209
LOCATION:Kinder- und Jugendhaus Alte Feuerwache (Johannisstraße 5\, 61231 Bad Nauheim)
DESCRIPTION:In diesem Kurs wird eifrig getöpfert und gelernt mit dem Material umzugehen.\r\nWenn ihr schon immer einmal eure eigenen Dinge aus Ton herstellen wolltet\, seid ihr hier genau richtig. Ob eine schöne Tasse\, ein Napf für euer Haustier oder eine Figur. Eurer Fantasie sind keine Grenzen gesetzt. Die getöpferten Schätze werden im Anschluss bemalt und im Keramikofen gebrannt.\r\nEgal ob ihr bereits Erfahrung beim Töpfern habt oder nicht - alle sind herzlich willkommen! \r\n\r\nHinweis: Damit die getöpferten Sachen lange halten werden sie von uns in der darauffolgenden Woche zweimal im Töpferofen gebrannt und glasiert. Ihr könnt sie daher leider erst ca. drei Wochen nach dem Kurs abholen. Dafür habt ihr aber umso länger etwas von euren getöpferten Schätzen. Bitte zieht euch unempfindliche Sachen an\, die auch dreckig werden dürfen!\r\n\r\nEine Stornierung ist bis zu 8 Tage vor Kursbeginn kostenfrei möglich! 
URL;VALUE=URI:https://www.unser-ferienprogramm.de/bad-nauheim/veranstaltung.php?id=311879
SUMMARY:Töpferkurs für Kids
DTSTART;TZID=Europe/Berlin:20260531T150000
END:VEVENT

END:VCALENDAR
