BEGIN:VCALENDAR
VERSION:2.0
PRODID:-//hacksw/handcal//NONSGML v1.0//EN
CALSCALE:GREGORIAN
BEGIN:VTIMEZONE
TZID:Europe/Berlin
X-LIC-LOCATION:Europe/Berlin
BEGIN:DAYLIGHT
TZOFFSETFROM:+0100
TZOFFSETTO:+0200
TZNAME:CEST
DTSTART:19700329T020000
RRULE:FREQ=YEARLY;BYDAY=-1SU;BYMONTH=3
END:DAYLIGHT
BEGIN:STANDARD
TZOFFSETFROM:+0200
TZOFFSETTO:+0100
TZNAME:CET
DTSTART:19701025T030000
RRULE:FREQ=YEARLY;BYDAY=-1SU;BYMONTH=10
END:STANDARD
END:VTIMEZONE
BEGIN:VEVENT
DTEND;TZID=Europe/Berlin:20260501T180000
UID:69e5e3433ab22
DTSTAMP:20260420T102643
LOCATION:Kinder- und Jugendhaus Alte Feuerwache (Johannisstraße 5\, 61231 Bad Nauheim)
DESCRIPTION:Im Töpferworkshop könnt ihr zusammen mit euren Kindern das Töpfern ausprobieren. Ein freier Platz bezieht sich jeweils auf ein Kind inkl. seines / ihres Vater. Gerne können sie auch mit zwei Kindern vorbeikommen - dies wären dann zwei Plätze.\r\n\r\nZum Workshop:\r\nWir fangen einfach an\, um ein Gefühl für den Ton zu bekommen. Dann kann munter drauflos getöpfert werden\, wenn die wichtigsten Regeln zum Arbeiten mit Ton verstanden sind.\r\nVerschiedene Behältnisse und Kunstwerke können nun nach Herzenslust von euch und euren Kindern gestaltet werden.\r\n\r\nPS: Die fertigen Werke können ca. 2-3 Wochen später bei uns abgeholt werden\, da unsere Kursleitung sie noch zweimal im Ofen brennt für eine lange Haltbarkeit. Sie erhalten eine E-Mail\, wenn die Töpferkunst fertig gebrannt und bereit zum Abholen ist.\r\n\r\nBitte beachten Sie\, dass wir ohne Drehscheibe\, sondern mit den Händen töpfern. \r\n\r\nEine Stornierung ist bis zu 8 Tage vor Kursbeginn möglich.\r\n\r\nSollten Sie Probleme mit der Finanzierung des Angebotes haben\, wenden Sie sich bitte an christina.groeninger@bad.nauheim. Wir schauen\, dass wir eine Lösung finden!
URL;VALUE=URI:https://www.unser-ferienprogramm.de/bad-nauheim/veranstaltung.php?id=311878
SUMMARY:Vater-Kind-Töpfern
DTSTART;TZID=Europe/Berlin:20260501T150000
END:VEVENT


BEGIN:VEVENT
DTEND;TZID=Europe/Berlin:20260502T173000
UID:69e5e3433ab5d1
DTSTAMP:20260420T102643
LOCATION:Kinder- und Jugendhaus Alte Feuerwache (Johannisstraße 5\, 61231 Bad Nauheim)
DESCRIPTION:Im Töpferworkshop könnt ihr zusammen mit euren Kindern das Töpfern ausprobieren. Ein freier Platz bezieht sich jeweils auf ein Kind inkl. seines / ihres Vater. Gerne können sie auch mit zwei Kindern vorbeikommen - dies wären dann zwei Plätze.\r\n\r\nZum Workshop:\r\nWir fangen einfach an\, um ein Gefühl für den Ton zu bekommen. Dann kann munter drauflos getöpfert werden\, wenn die wichtigsten Regeln zum Arbeiten mit Ton verstanden sind.\r\nVerschiedene Behältnisse und Kunstwerke können nun nach Herzenslust von euch und euren Kindern gestaltet werden.\r\n\r\nPS: Die fertigen Werke können ca. 2-3 Wochen später bei uns abgeholt werden\, da unsere Kursleitung sie noch zweimal im Ofen brennt für eine lange Haltbarkeit. Sie erhalten eine E-Mail\, wenn die Töpferkunst fertig gebrannt und bereit zum Abholen ist.\r\n\r\nBitte beachten Sie\, dass wir ohne Drehscheibe\, sondern mit den Händen töpfern. \r\n\r\nEine Stornierung ist bis zu 8 Tage vor Kursbeginn möglich.\r\n\r\nSollten Sie Probleme mit der Finanzierung des Angebotes haben\, wenden Sie sich bitte an christina.groeninger@bad.nauheim. Wir schauen\, dass wir eine Lösung finden!
URL;VALUE=URI:https://www.unser-ferienprogramm.de/bad-nauheim/veranstaltung.php?id=311878
SUMMARY:Vater-Kind-Töpfern
DTSTART;TZID=Europe/Berlin:20260502T150000
END:VEVENT

END:VCALENDAR
