BEGIN:VCALENDAR
VERSION:2.0
PRODID:-//hacksw/handcal//NONSGML v1.0//EN
CALSCALE:GREGORIAN
BEGIN:VTIMEZONE
TZID:Europe/Berlin
X-LIC-LOCATION:Europe/Berlin
BEGIN:DAYLIGHT
TZOFFSETFROM:+0100
TZOFFSETTO:+0200
TZNAME:CEST
DTSTART:19700329T020000
RRULE:FREQ=YEARLY;BYDAY=-1SU;BYMONTH=3
END:DAYLIGHT
BEGIN:STANDARD
TZOFFSETFROM:+0200
TZOFFSETTO:+0100
TZNAME:CET
DTSTART:19701025T030000
RRULE:FREQ=YEARLY;BYDAY=-1SU;BYMONTH=10
END:STANDARD
END:VTIMEZONE
BEGIN:VEVENT
DTEND;TZID=Europe/Berlin:20260619T170000
UID:69e5e31794c52
DTSTAMP:20260420T102559
LOCATION:Kinder- und Jugendhaus Alte Feuerwache (Johannisstraße 5\, 61231 Bad Nauheim)
DESCRIPTION:Weil es bei den Kids immer so gut ankommt\, habt unsere tolle Kursleitung Mel dieses Mal sogar noch ein Fimo-Angebot für euch im Petto! \r\n\r\nIn diesem Kreativkurs werdet ihr mit Mel zusammen süße Seesterne und weitere Figuren aus Fimo herstellen. Da kommt garantiert richtige Sommerstimmung auf! \r\n\r\nEine Stornierung ist bis zu 8 Tage vor Kursbeginn kostenfrei möglich. Anschließend werden wir den vollen Betrag berechnen. 
URL;VALUE=URI:https://www.unser-ferienprogramm.de/bad-nauheim/veranstaltung.php?id=311876
SUMMARY:Kreativkurs: Seesterne und kleine Figuren aus Fimo
DTSTART;TZID=Europe/Berlin:20260619T150000
END:VEVENT

END:VCALENDAR
