BEGIN:VCALENDAR
VERSION:2.0
PRODID:-//hacksw/handcal//NONSGML v1.0//EN
CALSCALE:GREGORIAN
BEGIN:VTIMEZONE
TZID:Europe/Berlin
X-LIC-LOCATION:Europe/Berlin
BEGIN:DAYLIGHT
TZOFFSETFROM:+0100
TZOFFSETTO:+0200
TZNAME:CEST
DTSTART:19700329T020000
RRULE:FREQ=YEARLY;BYDAY=-1SU;BYMONTH=3
END:DAYLIGHT
BEGIN:STANDARD
TZOFFSETFROM:+0200
TZOFFSETTO:+0100
TZNAME:CET
DTSTART:19701025T030000
RRULE:FREQ=YEARLY;BYDAY=-1SU;BYMONTH=10
END:STANDARD
END:VTIMEZONE
BEGIN:VEVENT
DTEND;TZID=Europe/Berlin:20260603T173000
UID:69e5e312771cb
DTSTAMP:20260420T102554
LOCATION:Kinder- und Jugendhaus Alte Feuerwache (Johannisstraße 5\, 61231 Bad Nauheim)
DESCRIPTION:Ein Kreativkurs der ganz anderen Art und weil er das letzte Mal so gut ankam haben wir ihn wieder für euch: Den Folienspaß!\r\nUnsere tolle Kursleitung Mel wird gemeinsam mit euch die Magie verschiedener Folien entdecken und einige Magnete und Sticker anfertigen. Diese glitzern nicht nur wunderschön\, sondern sehen auch noch verdammt cool und hochwertig aus!\r\nÜberzeugt euch gerne selbst und schaut euch das fertige Endergebnis als angehängtes Foto an!\r\n\r\nEine Stornierung ist bis zu 8 Tage vor Kursbeginn kostenfrei möglich. Anschließend werden wir den vollen Betrag berechnen.
URL;VALUE=URI:https://www.unser-ferienprogramm.de/bad-nauheim/veranstaltung.php?id=311872
SUMMARY:Kreativkurs: Folienspaß! Sticker und Magnete mit Glitzerfolie
DTSTART;TZID=Europe/Berlin:20260603T153000
END:VEVENT

END:VCALENDAR
