BEGIN:VCALENDAR
VERSION:2.0
PRODID:-//hacksw/handcal//NONSGML v1.0//EN
CALSCALE:GREGORIAN
BEGIN:VTIMEZONE
TZID:Europe/Berlin
X-LIC-LOCATION:Europe/Berlin
BEGIN:DAYLIGHT
TZOFFSETFROM:+0100
TZOFFSETTO:+0200
TZNAME:CEST
DTSTART:19700329T020000
RRULE:FREQ=YEARLY;BYDAY=-1SU;BYMONTH=3
END:DAYLIGHT
BEGIN:STANDARD
TZOFFSETFROM:+0200
TZOFFSETTO:+0100
TZNAME:CET
DTSTART:19701025T030000
RRULE:FREQ=YEARLY;BYDAY=-1SU;BYMONTH=10
END:STANDARD
END:VTIMEZONE
BEGIN:VEVENT
DTEND;TZID=Europe/Berlin:20260522T180000
UID:69e5e316c497f
DTSTAMP:20260420T102558
LOCATION:Kinder- und Jugendhaus Alte Feuerwache (Johannisstraße 5\, 61231 Bad Nauheim)
DESCRIPTION:Gemeinsam mit Mel werdet ihr zauberhafte Häuschen aus Fimo basteln. Wer dort wohl drinnen wohnt? Ein kleiner Wichtel oder doch eine Elfe? Findet es heraus und gestaltet euer eigenes individuelles Häuschen. Mit geheimnisvollen Details und kräftigen Farben seid ihr es\, die dem kleinen Unterschlupf Leben verleiht. 
URL;VALUE=URI:https://www.unser-ferienprogramm.de/bad-nauheim/veranstaltung.php?id=311871
SUMMARY:Kreativkurs: Fimohaus
DTSTART;TZID=Europe/Berlin:20260522T150000
END:VEVENT

END:VCALENDAR
