BEGIN:VCALENDAR
VERSION:2.0
PRODID:-//hacksw/handcal//NONSGML v1.0//EN
CALSCALE:GREGORIAN
BEGIN:VTIMEZONE
TZID:Europe/Berlin
X-LIC-LOCATION:Europe/Berlin
BEGIN:DAYLIGHT
TZOFFSETFROM:+0100
TZOFFSETTO:+0200
TZNAME:CEST
DTSTART:19700329T020000
RRULE:FREQ=YEARLY;BYDAY=-1SU;BYMONTH=3
END:DAYLIGHT
BEGIN:STANDARD
TZOFFSETFROM:+0200
TZOFFSETTO:+0100
TZNAME:CET
DTSTART:19701025T030000
RRULE:FREQ=YEARLY;BYDAY=-1SU;BYMONTH=10
END:STANDARD
END:VTIMEZONE
BEGIN:VEVENT
DTEND;TZID=Europe/Berlin:20260506T173000
UID:69e5e344f17a4
DTSTAMP:20260420T102644
LOCATION:Kinder- und Jugendhaus Alte Feuerwache (Johannisstraße 5\, 61231 Bad Nauheim)
DESCRIPTION:Mel nimmt euch mit auf eine Reise ins Land der Blumen. Passend zur Jahreszeit werdet ihr aus Papier und Draht verschiedene Blumen gestalten\, die Zuhause perfekt der Wohnung einen Hauch Frühling verleihen. Ideal zum Verschenken oder selber behalten - Man bekommt direkt gute Laune bei den bunten Prachtexemplaren. 
URL;VALUE=URI:https://www.unser-ferienprogramm.de/bad-nauheim/veranstaltung.php?id=311870
SUMMARY:Kreativkurs: Blumen aus Papier und Draht
DTSTART;TZID=Europe/Berlin:20260506T153000
END:VEVENT

END:VCALENDAR
