BEGIN:VCALENDAR
VERSION:2.0
PRODID:-//hacksw/handcal//NONSGML v1.0//EN
CALSCALE:GREGORIAN
BEGIN:VTIMEZONE
TZID:Europe/Berlin
X-LIC-LOCATION:Europe/Berlin
BEGIN:DAYLIGHT
TZOFFSETFROM:+0100
TZOFFSETTO:+0200
TZNAME:CEST
DTSTART:19700329T020000
RRULE:FREQ=YEARLY;BYDAY=-1SU;BYMONTH=3
END:DAYLIGHT
BEGIN:STANDARD
TZOFFSETFROM:+0200
TZOFFSETTO:+0100
TZNAME:CET
DTSTART:19701025T030000
RRULE:FREQ=YEARLY;BYDAY=-1SU;BYMONTH=10
END:STANDARD
END:VTIMEZONE
BEGIN:VEVENT
DTEND;TZID=Europe/Berlin:20260422T173000
UID:69e5e342529cc
DTSTAMP:20260420T102642
LOCATION:Kinder- und Jugendhaus Alte Feuerwache (Johannisstraße 5\, 61231 Bad Nauheim)
DESCRIPTION:In diesem tollen Kreativworkshop werdet ihr mit unserer Kursleitung Mel Lebensbäume aus Draht und Perlen herstellen. Diese sehen nicht nur super aus\, sondern verleihen dem Raum in dem sie sich befinden auch direkt etwas Magisches! Ihr könnt einen Faden daran binden und sie ans Fenster hängen\, als Kettenanhänger tragen oder über euer Bett hängen. \r\n\r\nDer kreativen Ausgestaltung mit bunten Farben sind keinerlei Grenzen gesetzt.
URL;VALUE=URI:https://www.unser-ferienprogramm.de/bad-nauheim/veranstaltung.php?id=311866
SUMMARY:Kreativkurs: Lebensbäume aus Draht & Perlen
DTSTART;TZID=Europe/Berlin:20260422T153000
END:VEVENT

END:VCALENDAR
