BEGIN:VCALENDAR
VERSION:2.0
PRODID:-//hacksw/handcal//NONSGML v1.0//EN
CALSCALE:GREGORIAN
BEGIN:VTIMEZONE
TZID:Europe/Berlin
X-LIC-LOCATION:Europe/Berlin
BEGIN:DAYLIGHT
TZOFFSETFROM:+0100
TZOFFSETTO:+0200
TZNAME:CEST
DTSTART:19700329T020000
RRULE:FREQ=YEARLY;BYDAY=-1SU;BYMONTH=3
END:DAYLIGHT
BEGIN:STANDARD
TZOFFSETFROM:+0200
TZOFFSETTO:+0100
TZNAME:CET
DTSTART:19701025T030000
RRULE:FREQ=YEARLY;BYDAY=-1SU;BYMONTH=10
END:STANDARD
END:VTIMEZONE
BEGIN:VEVENT
DTEND;TZID=Europe/Berlin:20260807T140000
UID:69e600d323f3b
DTSTAMP:20260420T123251
LOCATION:Nördlicher Park 21\, 61231 Bad Nauheim
DESCRIPTION:Wann hat man schon mal die Möglichkeit kostenlos auf einem Golfplatz zu stehen und den Schläger zu schwingen? Der Golfclub Bad Nauheim e.V. macht's möglich! \r\n\r\nIn diesem Kooperationsangebot werden verschiedene Aspekte des Golfens beleuchtet: Vom Warm-Up\, über Regeln\, Zielschießen bis hin zum richtigen Putten ist alles dabei. Seid dabei und probiert es aus!\r\n\r\nTrinken und kleine Snacks werden bereitgestellt. Gerne können Sie Ihrem Kind aber auch etwas zu Essen und zu Trinken mitgeben. \r\n\r\nDies ist ein Kooperationsangebot des Golfclub Bad Nauheim e.V. und des Kinder- und Jugendhauses Alte Feuerwache. 
URL;VALUE=URI:https://www.unser-ferienprogramm.de/bad-nauheim/veranstaltung.php?id=311863
SUMMARY:Schnuppern auf dem Golfplatz
DTSTART;TZID=Europe/Berlin:20260807T100000
END:VEVENT

END:VCALENDAR
