BEGIN:VCALENDAR
VERSION:2.0
PRODID:-//hacksw/handcal//NONSGML v1.0//EN
CALSCALE:GREGORIAN
BEGIN:VTIMEZONE
TZID:Europe/Berlin
X-LIC-LOCATION:Europe/Berlin
BEGIN:DAYLIGHT
TZOFFSETFROM:+0100
TZOFFSETTO:+0200
TZNAME:CEST
DTSTART:19700329T020000
RRULE:FREQ=YEARLY;BYDAY=-1SU;BYMONTH=3
END:DAYLIGHT
BEGIN:STANDARD
TZOFFSETFROM:+0200
TZOFFSETTO:+0100
TZNAME:CET
DTSTART:19701025T030000
RRULE:FREQ=YEARLY;BYDAY=-1SU;BYMONTH=10
END:STANDARD
END:VTIMEZONE
BEGIN:VEVENT
DTEND;TZID=Europe/Berlin:20260709T150000
UID:69e62b3ef38b1
DTSTAMP:20260420T153350
LOCATION:Smart Region Hub (In den Kolonnaden 7\, 61231 Bad Nauheim)
DESCRIPTION:Bei unserem Hackathon werden die Kinder altersgerecht und praxisnah an Zukunftstechnologien herangeführt. Sie bauen\, coden\, experimentieren mit Robotiksystemen und Künstlicher Intelligenz. Technik\, die Spaß macht!\r\n\r\nDies ist Kooperationsangebot des Smart Region Hub bzw. des Teams von Smart City und des Kinder- und Jugendhaus Alte Feuerwache. 
URL;VALUE=URI:https://www.unser-ferienprogramm.de/bad-nauheim/veranstaltung.php?id=311860
SUMMARY:Hackathon für Kids
DTSTART;TZID=Europe/Berlin:20260709T090000
END:VEVENT

END:VCALENDAR
