BEGIN:VCALENDAR
VERSION:2.0
PRODID:-//hacksw/handcal//NONSGML v1.0//EN
CALSCALE:GREGORIAN
BEGIN:VTIMEZONE
TZID:Europe/Berlin
X-LIC-LOCATION:Europe/Berlin
BEGIN:DAYLIGHT
TZOFFSETFROM:+0100
TZOFFSETTO:+0200
TZNAME:CEST
DTSTART:19700329T020000
RRULE:FREQ=YEARLY;BYDAY=-1SU;BYMONTH=3
END:DAYLIGHT
BEGIN:STANDARD
TZOFFSETFROM:+0200
TZOFFSETTO:+0100
TZNAME:CET
DTSTART:19701025T030000
RRULE:FREQ=YEARLY;BYDAY=-1SU;BYMONTH=10
END:STANDARD
END:VTIMEZONE
BEGIN:VEVENT
DTEND;TZID=Europe/Berlin:20260622T180000
UID:69e5e30f78484
DTSTAMP:20260420T102551
LOCATION:Kinder- und Jugendhaus Alte Feuerwache (Johannisstraße 5\, 61231 Bad Nauheim)
DESCRIPTION:Für unser letztes KidsTreff Special haben wir uns wieder etwas Neues einfallen lassen: Das Karaoke Special. Gemeinsam als Gruppe oder im Solo: Ihr habt die Möglichkeit zusammen coole Lieder zu singen\, die ihr kennt. Lasst uns zusammen musizieren. 
URL;VALUE=URI:https://www.unser-ferienprogramm.de/bad-nauheim/veranstaltung.php?id=311650
SUMMARY:Sing dein Song - Karaoke Special im KidsTreff
DTSTART;TZID=Europe/Berlin:20260622T150000
END:VEVENT

END:VCALENDAR
