BEGIN:VCALENDAR
VERSION:2.0
PRODID:-//hacksw/handcal//NONSGML v1.0//EN
CALSCALE:GREGORIAN
BEGIN:VTIMEZONE
TZID:Europe/Berlin
X-LIC-LOCATION:Europe/Berlin
BEGIN:DAYLIGHT
TZOFFSETFROM:+0100
TZOFFSETTO:+0200
TZNAME:CEST
DTSTART:19700329T020000
RRULE:FREQ=YEARLY;BYDAY=-1SU;BYMONTH=3
END:DAYLIGHT
BEGIN:STANDARD
TZOFFSETFROM:+0200
TZOFFSETTO:+0100
TZNAME:CET
DTSTART:19701025T030000
RRULE:FREQ=YEARLY;BYDAY=-1SU;BYMONTH=10
END:STANDARD
END:VTIMEZONE
BEGIN:VEVENT
DTEND;TZID=Europe/Berlin:20260608T180000
UID:69e5e343a9676
DTSTAMP:20260420T102643
LOCATION:Kinder- und Jugendhaus Alte Feuerwache (Johannisstraße 5\, 61231 Bad Nauheim)
DESCRIPTION:Die etwas anderen Bilder mit Leuchteffekt! Wir haben spezielles dunkles Papier für euch besorgt\, das bunte Farben zum Vorschein bringt\, wenn ihr mit einem Holzstab darüber fahrt. So entstehen wunderschöne Motive. Egal ob mir einer Vorlage oder komplett frei Hand - Wir sind auf alles vorbereitet. 
URL;VALUE=URI:https://www.unser-ferienprogramm.de/bad-nauheim/veranstaltung.php?id=311649
SUMMARY:Kratzbilder - Special im KidsTreff
DTSTART;TZID=Europe/Berlin:20260608T150000
END:VEVENT

END:VCALENDAR
