BEGIN:VCALENDAR
VERSION:2.0
PRODID:-//hacksw/handcal//NONSGML v1.0//EN
CALSCALE:GREGORIAN
BEGIN:VTIMEZONE
TZID:Europe/Berlin
X-LIC-LOCATION:Europe/Berlin
BEGIN:DAYLIGHT
TZOFFSETFROM:+0100
TZOFFSETTO:+0200
TZNAME:CEST
DTSTART:19700329T020000
RRULE:FREQ=YEARLY;BYDAY=-1SU;BYMONTH=3
END:DAYLIGHT
BEGIN:STANDARD
TZOFFSETFROM:+0200
TZOFFSETTO:+0100
TZNAME:CET
DTSTART:19701025T030000
RRULE:FREQ=YEARLY;BYDAY=-1SU;BYMONTH=10
END:STANDARD
END:VTIMEZONE
BEGIN:VEVENT
DTEND;TZID=Europe/Berlin:20260427T180000
UID:69e5e340f1104
DTSTAMP:20260420T102640
LOCATION:Kinder- und Jugendhaus Alte Feuerwache (Johannisstraße 5\, 61231 Bad Nauheim)
DESCRIPTION:Es wird bunt! In diesem Special könnt ihr euch an den allzeit beliebten Bügelperlen erfreuen und eigene Kunstwerke kreieren. Eine Betreuerin steht mit dem Bügeleisen bereit und sorgt dafür\, dass ihr eure Kunstwerke direkt mitnehmen könnt. Wir haben verschiedene Farben\, Formen und bei Bedarf auch Inspirationsideen. Wir freuen uns auf viele kreative Kids!
URL;VALUE=URI:https://www.unser-ferienprogramm.de/bad-nauheim/veranstaltung.php?id=311647
SUMMARY:Bügelperlen im KidsTreff
DTSTART;TZID=Europe/Berlin:20260427T150000
END:VEVENT

END:VCALENDAR
