BEGIN:VCALENDAR
VERSION:2.0
PRODID:-//hacksw/handcal//NONSGML v1.0//EN
CALSCALE:GREGORIAN
BEGIN:VTIMEZONE
TZID:Europe/Berlin
X-LIC-LOCATION:Europe/Berlin
BEGIN:DAYLIGHT
TZOFFSETFROM:+0100
TZOFFSETTO:+0200
TZNAME:CEST
DTSTART:19700329T020000
RRULE:FREQ=YEARLY;BYDAY=-1SU;BYMONTH=3
END:DAYLIGHT
BEGIN:STANDARD
TZOFFSETFROM:+0200
TZOFFSETTO:+0100
TZNAME:CET
DTSTART:19701025T030000
RRULE:FREQ=YEARLY;BYDAY=-1SU;BYMONTH=10
END:STANDARD
END:VTIMEZONE
BEGIN:VEVENT
DTEND;TZID=Europe/Berlin:20260615T200000
UID:69e5e2eb2b206
DTSTAMP:20260420T102515
LOCATION:Kinder- und Jugendhaus Alte Feuerwache (Johannisstraße 5\, 61231 Bad Nauheim)
DESCRIPTION:\r\nDiesen Monat sind wir mit einem leckeren Monatsspecial für euch zurück! Gemeinsam werden wir uns an verschiedenen Pralinen versuchen. Die benötigten Zutaten und ein paar Rezepte stellen wir zur Verfügung\, sodass direkt gestartet werden kann. Sucht euch aus worauf ihr Lust habt und probiert euch als Konditor*innen aus! 
URL;VALUE=URI:https://www.unser-ferienprogramm.de/bad-nauheim/veranstaltung.php?id=311645
SUMMARY:Pralinen DIY: Genuss in kleiner Form - Special im Mädchen*Treff
DTSTART;TZID=Europe/Berlin:20260615T180000
END:VEVENT

END:VCALENDAR
