BEGIN:VCALENDAR
VERSION:2.0
PRODID:-//hacksw/handcal//NONSGML v1.0//EN
CALSCALE:GREGORIAN
BEGIN:VTIMEZONE
TZID:Europe/Berlin
X-LIC-LOCATION:Europe/Berlin
BEGIN:DAYLIGHT
TZOFFSETFROM:+0100
TZOFFSETTO:+0200
TZNAME:CEST
DTSTART:19700329T020000
RRULE:FREQ=YEARLY;BYDAY=-1SU;BYMONTH=3
END:DAYLIGHT
BEGIN:STANDARD
TZOFFSETFROM:+0200
TZOFFSETTO:+0100
TZNAME:CET
DTSTART:19701025T030000
RRULE:FREQ=YEARLY;BYDAY=-1SU;BYMONTH=10
END:STANDARD
END:VTIMEZONE
BEGIN:VEVENT
DTEND;TZID=Europe/Berlin:20260601T200000
UID:69e5e30dd0291
DTSTAMP:20260420T102549
LOCATION:Kinder- und Jugendhaus Alte Feuerwache (Johannisstraße 5\, 61231 Bad Nauheim)
DESCRIPTION:Bei diesem neuen und erstmalig angebotenen Special geht es darum ein schwarzes T-Shirt mit Bleichmittel zu bemalen\, wodurch einzigartige und wunderschöne Designs entstehen. Durch diese Technik kann verschiedene Tiefe in das Design eingearbeitet werden. Selbstverständlich arbeiten wir mit Handschuhen und Mundschutz.\r\nDie Größe für das T-Shirt fragen wir bei der Anmeldung zum Special ab.
URL;VALUE=URI:https://www.unser-ferienprogramm.de/bad-nauheim/veranstaltung.php?id=311644
SUMMARY:Bleach Your Design: T-Shirts mit Bleichmittel färben - Special im Mädchen*Treff
DTSTART;TZID=Europe/Berlin:20260601T180000
END:VEVENT

END:VCALENDAR
