BEGIN:VCALENDAR
VERSION:2.0
PRODID:-//hacksw/handcal//NONSGML v1.0//EN
CALSCALE:GREGORIAN
BEGIN:VTIMEZONE
TZID:Europe/Berlin
X-LIC-LOCATION:Europe/Berlin
BEGIN:DAYLIGHT
TZOFFSETFROM:+0100
TZOFFSETTO:+0200
TZNAME:CEST
DTSTART:19700329T020000
RRULE:FREQ=YEARLY;BYDAY=-1SU;BYMONTH=3
END:DAYLIGHT
BEGIN:STANDARD
TZOFFSETFROM:+0200
TZOFFSETTO:+0100
TZNAME:CET
DTSTART:19701025T030000
RRULE:FREQ=YEARLY;BYDAY=-1SU;BYMONTH=10
END:STANDARD
END:VTIMEZONE
BEGIN:VEVENT
DTEND;TZID=Europe/Berlin:20260518T200000
UID:69e5e2ee5b0e7
DTSTAMP:20260420T102518
LOCATION:Kinder- und Jugendhaus Alte Feuerwache (Johannisstraße 5\, 61231 Bad Nauheim)
DESCRIPTION:Das Special bietet die Möglichkeit\, in eine entspannte Kreativzeit einzutauchen und ein eigenes Eichhörnchen zu häkeln. Egal ob bereits Erfahrung im Häkeln oder nicht - Kommt gerne vorbei und lasst uns gemeinsam ein süßes Eichhörnchen häkeln\, welches sich als Kuscheltier\, Deko oder Schlüsselanhänger eignet. Dabei entsteht eine warme\, offene Atmosphäre\, in der es um Spaß\, Kreativität und kleine Auszeiten vom Alltag geht.
URL;VALUE=URI:https://www.unser-ferienprogramm.de/bad-nauheim/veranstaltung.php?id=311643
SUMMARY:Häkel dein Tier: Eichhörnchen DIY - Special im Mädchen*Treff
DTSTART;TZID=Europe/Berlin:20260518T180000
END:VEVENT

END:VCALENDAR
