BEGIN:VCALENDAR
VERSION:2.0
PRODID:-//hacksw/handcal//NONSGML v1.0//EN
CALSCALE:GREGORIAN
BEGIN:VTIMEZONE
TZID:Europe/Berlin
X-LIC-LOCATION:Europe/Berlin
BEGIN:DAYLIGHT
TZOFFSETFROM:+0100
TZOFFSETTO:+0200
TZNAME:CEST
DTSTART:19700329T020000
RRULE:FREQ=YEARLY;BYDAY=-1SU;BYMONTH=3
END:DAYLIGHT
BEGIN:STANDARD
TZOFFSETFROM:+0200
TZOFFSETTO:+0100
TZNAME:CET
DTSTART:19701025T030000
RRULE:FREQ=YEARLY;BYDAY=-1SU;BYMONTH=10
END:STANDARD
END:VTIMEZONE
BEGIN:VEVENT
DTEND;TZID=Europe/Berlin:20260504T200000
UID:69e5e31cd8350
DTSTAMP:20260420T102604
LOCATION:Kinder- und Jugendhaus Alte Feuerwache (Johannisstraße 5\, 61231 Bad Nauheim)
DESCRIPTION:Im Mädchen*Treff werden wir uns zusammensetzen und über gesunde\, leckere Smoothierezepte philosophieren\, sowie eigene Rezepte erarbeiten. Anschließend gehen wir gemeinsam alle Zutaten einkaufen\, um dann in der Alten Feuerwache unsere Kreationen auszuprobieren und zu bewerten. Ein gesunder\, leckerer Spaß\, der Inspirationen zum Nachmachen liefert. 
URL;VALUE=URI:https://www.unser-ferienprogramm.de/bad-nauheim/veranstaltung.php?id=311641
SUMMARY:Smoothie Montag - Special im Mädchen*Treff
DTSTART;TZID=Europe/Berlin:20260504T180000
END:VEVENT

END:VCALENDAR
